BEGIN:VCALENDAR
VERSION:2.0
PRODID:-//Richmond Heights Memorial Library - ECPv6.15.20//NONSGML v1.0//EN
CALSCALE:GREGORIAN
METHOD:PUBLISH
X-WR-CALNAME:Richmond Heights Memorial Library
X-ORIGINAL-URL:https://www.richmondheightslibrary.org
X-WR-CALDESC:Events for Richmond Heights Memorial Library
REFRESH-INTERVAL;VALUE=DURATION:PT1H
X-Robots-Tag:noindex
X-PUBLISHED-TTL:PT1H
BEGIN:VTIMEZONE
TZID:America/Chicago
BEGIN:DAYLIGHT
TZOFFSETFROM:-0600
TZOFFSETTO:-0500
TZNAME:CDT
DTSTART:20250309T080000
END:DAYLIGHT
BEGIN:STANDARD
TZOFFSETFROM:-0500
TZOFFSETTO:-0600
TZNAME:CST
DTSTART:20251102T070000
END:STANDARD
BEGIN:DAYLIGHT
TZOFFSETFROM:-0600
TZOFFSETTO:-0500
TZNAME:CDT
DTSTART:20260308T080000
END:DAYLIGHT
BEGIN:STANDARD
TZOFFSETFROM:-0500
TZOFFSETTO:-0600
TZNAME:CST
DTSTART:20261101T070000
END:STANDARD
BEGIN:DAYLIGHT
TZOFFSETFROM:-0600
TZOFFSETTO:-0500
TZNAME:CDT
DTSTART:20270314T080000
END:DAYLIGHT
BEGIN:STANDARD
TZOFFSETFROM:-0500
TZOFFSETTO:-0600
TZNAME:CST
DTSTART:20271107T070000
END:STANDARD
END:VTIMEZONE
BEGIN:VEVENT
DTSTART;TZID=America/Chicago:20260120T000000
DTEND;TZID=America/Chicago:20260120T235959
DTSTAMP:20260421T072053
CREATED:20251229T183320Z
LAST-MODIFIED:20260115T155653Z
UID:3168-1768867200-1768953599@www.richmondheightslibrary.org
SUMMARY:Teen Activity Kits
DESCRIPTION:Teen Activity Kits are take-home kits for teens with a different craft or activity each month! \n\n\n\n \n\n\n\nIn January\, we’ll get ready for Valentine’s Day and craft a Quilled Heart Balloon Card.  (Or\, if hearts aren’t your thing\, make a round balloon.)  Kits always include a snack\, recommendations for new Teen & Tween books at the library\, and usually a little something more.  \n\n\n\n \n\n\n\nPlease register by January 14th to pick up the following week. \n\n\n\nTeen Activity Kits are for teens\, ages 12 – 18.
URL:https://www.richmondheightslibrary.org/event/teen-activity-kits-2/
LOCATION:Richmond Heights Memorial Library – Children’s Library\, 8001 Dale Avenue\, Richmond Heights\, MO\, 63117\, United States
CATEGORIES:Arts & Crafts,Teen Programming
ATTACH;FMTTYPE=image/png:https://www.richmondheightslibrary.org/wp-content/uploads/2025/12/TAK-Jan-26-long-slider.png
END:VEVENT
END:VCALENDAR