BEGIN:VCALENDAR
VERSION:2.0
PRODID:-//Richmond Heights Memorial Library - ECPv6.15.20//NONSGML v1.0//EN
CALSCALE:GREGORIAN
METHOD:PUBLISH
X-ORIGINAL-URL:https://www.richmondheightslibrary.org
X-WR-CALDESC:Events for Richmond Heights Memorial Library
REFRESH-INTERVAL;VALUE=DURATION:PT1H
X-Robots-Tag:noindex
X-PUBLISHED-TTL:PT1H
BEGIN:VTIMEZONE
TZID:America/Chicago
BEGIN:DAYLIGHT
TZOFFSETFROM:-0600
TZOFFSETTO:-0500
TZNAME:CDT
DTSTART:20250309T080000
END:DAYLIGHT
BEGIN:STANDARD
TZOFFSETFROM:-0500
TZOFFSETTO:-0600
TZNAME:CST
DTSTART:20251102T070000
END:STANDARD
BEGIN:DAYLIGHT
TZOFFSETFROM:-0600
TZOFFSETTO:-0500
TZNAME:CDT
DTSTART:20260308T080000
END:DAYLIGHT
BEGIN:STANDARD
TZOFFSETFROM:-0500
TZOFFSETTO:-0600
TZNAME:CST
DTSTART:20261101T070000
END:STANDARD
BEGIN:DAYLIGHT
TZOFFSETFROM:-0600
TZOFFSETTO:-0500
TZNAME:CDT
DTSTART:20270314T080000
END:DAYLIGHT
BEGIN:STANDARD
TZOFFSETFROM:-0500
TZOFFSETTO:-0600
TZNAME:CST
DTSTART:20271107T070000
END:STANDARD
END:VTIMEZONE
BEGIN:VEVENT
DTSTART;TZID=America/Chicago:20260301T180000
DTEND;TZID=America/Chicago:20260301T200000
DTSTAMP:20260421T040546
CREATED:20260121T172815Z
LAST-MODIFIED:20260122T224656Z
UID:3258-1772388000-1772395200@www.richmondheightslibrary.org
SUMMARY:Lunar New Year Celebration!
DESCRIPTION:Join us for this much-loved annual tradition!  Try out a variety of traditional crafts\, then prepare to be entertained at the gala performance\, all provided by the students and faculty of the St. Louis Modern Chinese School.  Don’t miss out on the Year of the Horse!
URL:https://www.richmondheightslibrary.org/event/lunar-new-year-celebration/
LOCATION:The HEIGHTS\, 8001 Dale Avenue\, Richmond Heights\, Missouri\, 63117
CATEGORIES:All Ages Programming,Arts & Crafts,Children's Programming,Storytimes
ATTACH;FMTTYPE=image/png:https://www.richmondheightslibrary.org/wp-content/uploads/2026/01/LNY-2026-slider-1-1.png
END:VEVENT
BEGIN:VEVENT
DTSTART;TZID=America/Chicago:20260310T183000
DTEND;TZID=America/Chicago:20260310T193000
DTSTAMP:20260421T040546
CREATED:20260212T154835Z
LAST-MODIFIED:20260212T154836Z
UID:3400-1773167400-1773171000@www.richmondheightslibrary.org
SUMMARY:Teen Tuesday:  Get Creative!
DESCRIPTION:Teens ages 12 – 18! \n\n\n\nCome out and join us for a fun night of Paint-By-Numbers!  We’ll have a number of designs to choose from\, so everyone will get to take home your own Paint-By-Number masterpiece!   \n\n\n\nLight refreshments will be served.  \n\n\n\n**Please note that gluten\, dairy\, soy\, and other allergens may be present. Be mindful if you have food allergies or sensitivities. RHML is not responsible for any health issues that may arise from participation in programs.
URL:https://www.richmondheightslibrary.org/event/teen-tuesday-get-creative-4/
LOCATION:Richmond Heights Memorial Library – Program Room\, 8001 Dale Avenue\, Richmond Heights\, MO\, 63117\, United States
CATEGORIES:Arts & Crafts,Teen Programming
ATTACH;FMTTYPE=image/png:https://www.richmondheightslibrary.org/wp-content/uploads/2026/02/Teen-Tues-Mar-26-long-slider.png
END:VEVENT
BEGIN:VEVENT
DTSTART;TZID=America/Chicago:20260324T183000
DTEND;TZID=America/Chicago:20260324T193000
DTSTAMP:20260421T040546
CREATED:20260304T004924Z
LAST-MODIFIED:20260304T004925Z
UID:3518-1774377000-1774380600@www.richmondheightslibrary.org
SUMMARY:Open Art Studio for Families
DESCRIPTION:Choose from a wide variety of provided art supplies to make your very own creation!   \n\n\n\nThis program is for families and individuals\, ages 6 & up. \n\n\n\nNo registration required; just drop in!
URL:https://www.richmondheightslibrary.org/event/open-art-studio-for-families/
LOCATION:Richmond Heights Memorial Library – Program Room\, 8001 Dale Avenue\, Richmond Heights\, MO\, 63117\, United States
CATEGORIES:Arts & Crafts
ATTACH;FMTTYPE=image/png:https://www.richmondheightslibrary.org/wp-content/uploads/2026/03/Art-Studio-Sept.png
END:VEVENT
END:VCALENDAR