BEGIN:VCALENDAR
VERSION:2.0
PRODID:-//Richmond Heights Memorial Library - ECPv6.15.20//NONSGML v1.0//EN
CALSCALE:GREGORIAN
METHOD:PUBLISH
X-ORIGINAL-URL:https://www.richmondheightslibrary.org
X-WR-CALDESC:Events for Richmond Heights Memorial Library
REFRESH-INTERVAL;VALUE=DURATION:PT1H
X-Robots-Tag:noindex
X-PUBLISHED-TTL:PT1H
BEGIN:VTIMEZONE
TZID:America/Chicago
BEGIN:DAYLIGHT
TZOFFSETFROM:-0600
TZOFFSETTO:-0500
TZNAME:CDT
DTSTART:20240310T080000
END:DAYLIGHT
BEGIN:STANDARD
TZOFFSETFROM:-0500
TZOFFSETTO:-0600
TZNAME:CST
DTSTART:20241103T070000
END:STANDARD
BEGIN:DAYLIGHT
TZOFFSETFROM:-0600
TZOFFSETTO:-0500
TZNAME:CDT
DTSTART:20250309T080000
END:DAYLIGHT
BEGIN:STANDARD
TZOFFSETFROM:-0500
TZOFFSETTO:-0600
TZNAME:CST
DTSTART:20251102T070000
END:STANDARD
BEGIN:DAYLIGHT
TZOFFSETFROM:-0600
TZOFFSETTO:-0500
TZNAME:CDT
DTSTART:20260308T080000
END:DAYLIGHT
BEGIN:STANDARD
TZOFFSETFROM:-0500
TZOFFSETTO:-0600
TZNAME:CST
DTSTART:20261101T070000
END:STANDARD
END:VTIMEZONE
BEGIN:VEVENT
DTSTART;TZID=America/Chicago:20250908T100000
DTEND;TZID=America/Chicago:20250908T103000
DTSTAMP:20260420T200127
CREATED:20250902T173142Z
LAST-MODIFIED:20250902T173323Z
UID:2493-1757325600-1757327400@www.richmondheightslibrary.org
SUMMARY:Storytime at the Library
DESCRIPTION:Young children and their caregivers are invited to join us in the Children’s Library for Stories\, Songs & Playtime!
URL:https://www.richmondheightslibrary.org/event/storytime-at-the-library/
LOCATION:Richmond Heights Memorial Library – Children’s Library\, 8001 Dale Avenue\, Richmond Heights\, MO\, 63117\, United States
CATEGORIES:Children's Programming,Storytimes
ATTACH;FMTTYPE=image/png:https://www.richmondheightslibrary.org/wp-content/uploads/2025/09/Storytime-Long.png
END:VEVENT
BEGIN:VEVENT
DTSTART;TZID=America/Chicago:20250908T160000
DTEND;TZID=America/Chicago:20250908T160000
DTSTAMP:20260420T200127
CREATED:20250811T211348Z
LAST-MODIFIED:20250813T194952Z
UID:2133-1757347200-1757347200@www.richmondheightslibrary.org
SUMMARY:PAWs for Reading
DESCRIPTION:Come read stories to Milo\, a specially trained and certified ADI (Assistance Dogs International) dog.
URL:https://www.richmondheightslibrary.org/event/2133/
LOCATION:Richmond Heights Memorial Library – Children’s Library\, 8001 Dale Avenue\, Richmond Heights\, MO\, 63117\, United States
CATEGORIES:Children's Programming
ATTACH;FMTTYPE=image/png:https://www.richmondheightslibrary.org/wp-content/uploads/2025/08/PAWS-Featured-image-September-2025.png
END:VEVENT
BEGIN:VEVENT
DTSTART;TZID=America/Chicago:20250909T160000
DTEND;TZID=America/Chicago:20250909T160000
DTSTAMP:20260420T200127
CREATED:20250813T200013Z
LAST-MODIFIED:20250814T164049Z
UID:2270-1757433600-1757433600@www.richmondheightslibrary.org
SUMMARY:Lego Free Play
DESCRIPTION:Enjoy an hour of free play with all sorts of Legos.  Bring your friends and compare what you’ve each built or make new friends and build something together.
URL:https://www.richmondheightslibrary.org/event/lego-free-play/
LOCATION:Richmond Heights Memorial Library – Program Room\, 8001 Dale Avenue\, Richmond Heights\, MO\, 63117\, United States
CATEGORIES:Children's Programming
ATTACH;FMTTYPE=image/png:https://www.richmondheightslibrary.org/wp-content/uploads/2025/08/Lego-Sept-2025-long-slider.png
END:VEVENT
BEGIN:VEVENT
DTSTART;TZID=America/Chicago:20250911T160000
DTEND;TZID=America/Chicago:20250911T160000
DTSTAMP:20260420T200127
CREATED:20250816T191200Z
LAST-MODIFIED:20250903T165108Z
UID:2321-1757606400-1757606400@www.richmondheightslibrary.org
SUMMARY:Kids Create! Stained Glass Bookmarks
DESCRIPTION:Come make a stained glass bookmarks with your friends!
URL:https://www.richmondheightslibrary.org/event/kids-create-stained-glass-bookmarks/
LOCATION:Richmond Heights Memorial Library – Program Room\, 8001 Dale Avenue\, Richmond Heights\, MO\, 63117\, United States
CATEGORIES:Arts & Crafts,Children's Programming
ATTACH;FMTTYPE=image/png:https://www.richmondheightslibrary.org/wp-content/uploads/2025/08/Kids-Create-Long-Slider-Sept-2025.png
END:VEVENT
BEGIN:VEVENT
DTSTART;TZID=America/Chicago:20250913T100000
DTEND;TZID=America/Chicago:20250913T100000
DTSTAMP:20260420T200127
CREATED:20250811T213008Z
LAST-MODIFIED:20250816T163443Z
UID:2140-1757757600-1757757600@www.richmondheightslibrary.org
SUMMARY:Animals Down Under Storytime
DESCRIPTION:Come join in our story time all about animals from Australia.
URL:https://www.richmondheightslibrary.org/event/2140/
LOCATION:Richmond Heights Memorial Library – Children’s Library\, 8001 Dale Avenue\, Richmond Heights\, MO\, 63117\, United States
CATEGORIES:Children's Programming,Storytimes
ATTACH;FMTTYPE=image/png:https://www.richmondheightslibrary.org/wp-content/uploads/2025/08/Featured-image-Saturday-Storytime-September-2025.png
END:VEVENT
BEGIN:VEVENT
DTSTART;TZID=America/Chicago:20250913T140000
DTEND;TZID=America/Chicago:20250913T153000
DTSTAMP:20260420T200127
CREATED:20250813T003738Z
LAST-MODIFIED:20250903T164227Z
UID:2179-1757772000-1757777400@www.richmondheightslibrary.org
SUMMARY:Tabletop Role Playing Hero Kids
DESCRIPTION:Join us in the program room for a roleplaying adventure. The prince’s evil pirate uncle has usurped the throne. The Hero Kids need to help the prince get his throne back. \n\n\n\nWe will have role playing\, snacks\, creativity\, puzzles\, and lots of fun. Beginners welcome! Ages 6-12.
URL:https://www.richmondheightslibrary.org/event/tabletop-role-playing-hero-kids/
LOCATION:Richmond Heights Memorial Library – Program Room\, 8001 Dale Avenue\, Richmond Heights\, MO\, 63117\, United States
CATEGORIES:Children's Programming
ATTACH;FMTTYPE=image/png:https://www.richmondheightslibrary.org/wp-content/uploads/2025/08/Tabletop-Role-Playing-Games-sept-2025-2.png
END:VEVENT
BEGIN:VEVENT
DTSTART;TZID=America/Chicago:20250915T100000
DTEND;TZID=America/Chicago:20250915T103000
DTSTAMP:20260420T200127
CREATED:20250902T174224Z
LAST-MODIFIED:20250902T174225Z
UID:2498-1757930400-1757932200@www.richmondheightslibrary.org
SUMMARY:Storytime at the Library
DESCRIPTION:Young children and their caregivers are invited to join us in the Children’s Library for Stories\, Songs & Playtime!
URL:https://www.richmondheightslibrary.org/event/storytime-at-the-library-5/
LOCATION:Richmond Heights Memorial Library – Children’s Library\, 8001 Dale Avenue\, Richmond Heights\, MO\, 63117\, United States
CATEGORIES:Children's Programming,Storytimes
ATTACH;FMTTYPE=image/png:https://www.richmondheightslibrary.org/wp-content/uploads/2025/09/Storytime-Long.png
END:VEVENT
BEGIN:VEVENT
DTSTART;TZID=America/Chicago:20250917T160000
DTEND;TZID=America/Chicago:20250917T160000
DTSTAMP:20260420T200127
CREATED:20250816T170358Z
LAST-MODIFIED:20250816T191431Z
UID:2303-1758124800-1758124800@www.richmondheightslibrary.org
SUMMARY:Game Play Wednesdays
DESCRIPTION:Join us for a different type of game every month.  This month we’ll play Castle Panic and defend the castle against marauding monsters!
URL:https://www.richmondheightslibrary.org/event/2303/
LOCATION:Richmond Heights Memorial Library – Program Room\, 8001 Dale Avenue\, Richmond Heights\, MO\, 63117\, United States
CATEGORIES:Children's Programming
ATTACH;FMTTYPE=image/png:https://www.richmondheightslibrary.org/wp-content/uploads/2025/08/rectangle-Game-Play-Wednesday-Sept-2025.png
END:VEVENT
BEGIN:VEVENT
DTSTART;TZID=America/Chicago:20250922T100000
DTEND;TZID=America/Chicago:20250922T103000
DTSTAMP:20260420T200127
CREATED:20250902T174557Z
LAST-MODIFIED:20250902T174557Z
UID:2501-1758535200-1758537000@www.richmondheightslibrary.org
SUMMARY:Storytime at the Library
DESCRIPTION:Young children and their caregivers are invited to join us in the Children’s Library for Stories\, Songs & Playtime!
URL:https://www.richmondheightslibrary.org/event/storytime-at-the-library-6/
LOCATION:Richmond Heights Memorial Library – Children’s Library\, 8001 Dale Avenue\, Richmond Heights\, MO\, 63117\, United States
CATEGORIES:Children's Programming,Storytimes
ATTACH;FMTTYPE=image/png:https://www.richmondheightslibrary.org/wp-content/uploads/2025/09/Storytime-Long.png
END:VEVENT
BEGIN:VEVENT
DTSTART;TZID=America/Chicago:20250924T160000
DTEND;TZID=America/Chicago:20250924T160000
DTSTAMP:20260420T200127
CREATED:20250813T163421Z
LAST-MODIFIED:20250922T221045Z
UID:2197-1758729600-1758729600@www.richmondheightslibrary.org
SUMMARY:Reptiles of Missouri
DESCRIPTION:Join us for a fascinating program about the reptiles of Missouri\, brought to you by the Missouri Department of Conservation.
URL:https://www.richmondheightslibrary.org/event/reptiles-of-missouri/
LOCATION:Richmond Heights Memorial Library – Program Room\, 8001 Dale Avenue\, Richmond Heights\, MO\, 63117\, United States
CATEGORIES:Children's Programming
ATTACH;FMTTYPE=image/png:https://www.richmondheightslibrary.org/wp-content/uploads/2025/08/MDC-Reptiles-of-MO-Long-Slider-Sept-2025.png
END:VEVENT
BEGIN:VEVENT
DTSTART;TZID=America/Chicago:20250929T100000
DTEND;TZID=America/Chicago:20250929T103000
DTSTAMP:20260420T200127
CREATED:20250902T174757Z
LAST-MODIFIED:20250902T174758Z
UID:2503-1759140000-1759141800@www.richmondheightslibrary.org
SUMMARY:Storytime at the Library
DESCRIPTION:Young children and their caregivers are invited to join us in the Children’s Library for Stories\, Songs & Playtime!
URL:https://www.richmondheightslibrary.org/event/storytime-at-the-library-7/
LOCATION:Richmond Heights Memorial Library – Children’s Library\, 8001 Dale Avenue\, Richmond Heights\, MO\, 63117\, United States
CATEGORIES:Children's Programming,Storytimes
ATTACH;FMTTYPE=image/png:https://www.richmondheightslibrary.org/wp-content/uploads/2025/09/Storytime-Long.png
END:VEVENT
BEGIN:VEVENT
DTSTART;TZID=America/Chicago:20250930T183000
DTEND;TZID=America/Chicago:20250930T183000
DTSTAMP:20260420T200127
CREATED:20250818T183542Z
LAST-MODIFIED:20250818T220004Z
UID:2349-1759257000-1759257000@www.richmondheightslibrary.org
SUMMARY:Open Art Studio for Families
DESCRIPTION:Open Art Studio for Families \n\n\n\nWe’ll have lots of family-friendly art supplies to create your own project!   \n\n\n\nCanvas Paper Paints Clay Markers Pipe Cleaners Yarn + more! \n\n\n\nWhat will you create? \n\n\n\nNo registration required! Just drop in! \n\n\n\nTuesday\, September 30 @ 6:30pm
URL:https://www.richmondheightslibrary.org/event/2349/
LOCATION:Richmond Heights Memorial Library – Program Room\, 8001 Dale Avenue\, Richmond Heights\, MO\, 63117\, United States
CATEGORIES:Adult Programming,Arts & Crafts,Children's Programming,Teen Programming
ATTACH;FMTTYPE=image/png:https://www.richmondheightslibrary.org/wp-content/uploads/2025/08/Art-Studio-Sept.png
END:VEVENT
END:VCALENDAR