BEGIN:VCALENDAR
VERSION:2.0
PRODID:-//Richmond Heights Memorial Library - ECPv6.15.20//NONSGML v1.0//EN
CALSCALE:GREGORIAN
METHOD:PUBLISH
X-WR-CALNAME:Richmond Heights Memorial Library
X-ORIGINAL-URL:https://www.richmondheightslibrary.org
X-WR-CALDESC:Events for Richmond Heights Memorial Library
REFRESH-INTERVAL;VALUE=DURATION:PT1H
X-Robots-Tag:noindex
X-PUBLISHED-TTL:PT1H
BEGIN:VTIMEZONE
TZID:America/Chicago
BEGIN:DAYLIGHT
TZOFFSETFROM:-0600
TZOFFSETTO:-0500
TZNAME:CDT
DTSTART:20240310T080000
END:DAYLIGHT
BEGIN:STANDARD
TZOFFSETFROM:-0500
TZOFFSETTO:-0600
TZNAME:CST
DTSTART:20241103T070000
END:STANDARD
BEGIN:DAYLIGHT
TZOFFSETFROM:-0600
TZOFFSETTO:-0500
TZNAME:CDT
DTSTART:20250309T080000
END:DAYLIGHT
BEGIN:STANDARD
TZOFFSETFROM:-0500
TZOFFSETTO:-0600
TZNAME:CST
DTSTART:20251102T070000
END:STANDARD
BEGIN:DAYLIGHT
TZOFFSETFROM:-0600
TZOFFSETTO:-0500
TZNAME:CDT
DTSTART:20260308T080000
END:DAYLIGHT
BEGIN:STANDARD
TZOFFSETFROM:-0500
TZOFFSETTO:-0600
TZNAME:CST
DTSTART:20261101T070000
END:STANDARD
END:VTIMEZONE
BEGIN:VEVENT
DTSTART;TZID=America/Chicago:20251103T100000
DTEND;TZID=America/Chicago:20251103T103000
DTSTAMP:20260420T164833
CREATED:20251020T175638Z
LAST-MODIFIED:20251020T175639Z
UID:2728-1762164000-1762165800@www.richmondheightslibrary.org
SUMMARY:Storytime at the Library!
DESCRIPTION:Young children & their caregivers are invited to join us in the Children’s Library for Stories\, Songs\, and Playtime! \n\n\n\nEvery week at 10am.
URL:https://www.richmondheightslibrary.org/event/storytime-at-the-library-9/
LOCATION:MO
CATEGORIES:Children's Programming,Storytimes
ATTACH;FMTTYPE=image/png:https://www.richmondheightslibrary.org/wp-content/uploads/2025/10/Storytime-Long-1.png
END:VEVENT
BEGIN:VEVENT
DTSTART;TZID=America/Chicago:20251104T160000
DTEND;TZID=America/Chicago:20251104T170000
DTSTAMP:20260420T164833
CREATED:20251017T165246Z
LAST-MODIFIED:20251021T174039Z
UID:2705-1762272000-1762275600@www.richmondheightslibrary.org
SUMMARY:Lego Free Play - Ages 6-18
DESCRIPTION:Enjoy an hour of free play with our Lego blocks. We have basic blocks\, cool minifigs\, and technic pieces. \n\n\n\nBring your friends and compare what you’ve each built or make new friends and build something together. \n\n\n\nDrop in!
URL:https://www.richmondheightslibrary.org/event/lego-free-play-ages-6-18-2/
LOCATION:Richmond Heights Memorial Library – Program Room\, 8001 Dale Avenue\, Richmond Heights\, MO\, 63117\, United States
CATEGORIES:Children's Programming,Homeschool,STEM
ATTACH;FMTTYPE=image/jpeg:https://www.richmondheightslibrary.org/wp-content/uploads/2025/10/Lego-Nov-2025-long-slider.jpg
END:VEVENT
BEGIN:VEVENT
DTSTART;TZID=America/Chicago:20251108T100000
DTEND;TZID=America/Chicago:20251108T110000
DTSTAMP:20260420T164833
CREATED:20251014T002457Z
LAST-MODIFIED:20251021T174312Z
UID:2681-1762596000-1762599600@www.richmondheightslibrary.org
SUMMARY:Native American Storytelling - All Ages
DESCRIPTION:Join us for a special event of Native American Storytelling with Suzanne Jones. \n\n\n\n \n\n\n\nHer traditional stories are told primarily by Choctaw\, Cherokee\, and Delaware Nations/tribes\, all of which Jones is either a tribal member or descended from. These stories are often told to educate children or entertain people at gatherings.
URL:https://www.richmondheightslibrary.org/event/native-american-storytelling-all-ages/
LOCATION:Richmond Heights Memorial Library – Program Room\, 8001 Dale Avenue\, Richmond Heights\, MO\, 63117\, United States
CATEGORIES:All Ages Programming,Children's Programming,Homeschool
ATTACH;FMTTYPE=image/jpeg:https://www.richmondheightslibrary.org/wp-content/uploads/2025/10/Native-American-Storytelling-2025.jpg
END:VEVENT
BEGIN:VEVENT
DTSTART;TZID=America/Chicago:20251110T100000
DTEND;TZID=America/Chicago:20251110T103000
DTSTAMP:20260420T164833
CREATED:20251020T175846Z
LAST-MODIFIED:20251020T175846Z
UID:2730-1762768800-1762770600@www.richmondheightslibrary.org
SUMMARY:Storytime at the Library!
DESCRIPTION:Young children & their caregivers are invited to join us in the Children’s Library for Stories\, Songs\, and Playtime! \n\n\n\nEvery week at 10am.
URL:https://www.richmondheightslibrary.org/event/storytime-at-the-library-10/
LOCATION:Richmond Heights Memorial Library – Children’s Library\, 8001 Dale Avenue\, Richmond Heights\, MO\, 63117\, United States
CATEGORIES:Children's Programming,Storytimes
ATTACH;FMTTYPE=image/png:https://www.richmondheightslibrary.org/wp-content/uploads/2025/10/Storytime-Long-1.png
END:VEVENT
BEGIN:VEVENT
DTSTART;TZID=America/Chicago:20251110T160000
DTEND;TZID=America/Chicago:20251110T170000
DTSTAMP:20260420T164833
CREATED:20251015T155828Z
LAST-MODIFIED:20251021T173940Z
UID:2691-1762790400-1762794000@www.richmondheightslibrary.org
SUMMARY:PAWS for Reading
DESCRIPTION:Come read stories to Milo\, a specially trained and certified ADI (Assistance Dogs International) dog.
URL:https://www.richmondheightslibrary.org/event/paws-for-reading-2/
LOCATION:Richmond Heights Memorial Library – Children’s Library\, 8001 Dale Avenue\, Richmond Heights\, MO\, 63117\, United States
CATEGORIES:All Ages Programming,Children's Programming,Homeschool,Storytimes
ATTACH;FMTTYPE=image/png:https://www.richmondheightslibrary.org/wp-content/uploads/2025/08/PAWS-Featured-image-September-2025.png
END:VEVENT
BEGIN:VEVENT
DTSTART;TZID=America/Chicago:20251112T160000
DTEND;TZID=America/Chicago:20251112T170000
DTSTAMP:20260420T164833
CREATED:20251021T173239Z
LAST-MODIFIED:20251021T174337Z
UID:2760-1762963200-1762966800@www.richmondheightslibrary.org
SUMMARY:Adventure Lab: Lotion Bars and Sugar Scrub
DESCRIPTION:Make lotion bars and sugar scrub!
URL:https://www.richmondheightslibrary.org/event/adventure-lab-lotion-bars-and-sugar-scrub/
LOCATION:Richmond Heights Memorial Library – Program Room\, 8001 Dale Avenue\, Richmond Heights\, MO\, 63117\, United States
CATEGORIES:Children's Programming,Homeschool,STEM
ATTACH;FMTTYPE=image/jpeg:https://www.richmondheightslibrary.org/wp-content/uploads/2025/10/Adventure-Lab-Long-November-2025.jpg
END:VEVENT
BEGIN:VEVENT
DTSTART;TZID=America/Chicago:20251115T080000
DTEND;TZID=America/Chicago:20251115T170000
DTSTAMP:20260420T164833
CREATED:20251015T154709Z
LAST-MODIFIED:20251106T164645Z
UID:2685-1763193600-1763226000@www.richmondheightslibrary.org
SUMMARY:At Home Family Book Club - The Wrong Way Home
DESCRIPTION:The Wrong Way Home is a realistic fiction book about a 12-year-old girl who escapes a seemilgly idyllic off-the-grid community\, only to plan her way home while slowly discovering the dangerous truth about her past. \n\n\n\n \n\n\n\n \n\n\n\nThe At-Home Family Book Club Kit includes a copy of the book to check out\, discussion questions\, and snacks. \n\n\n\nKits are available first come\, first served in the Children’s Library. Or register by November 15th to reserve your copy! \n\n\n\nBooks will be checked out to your library card when you pick up the kit.
URL:https://www.richmondheightslibrary.org/event/at-home-family-book-club-the-wrong-way-home/
LOCATION:Richmond Heights Memorial Library – Children’s Library\, 8001 Dale Avenue\, Richmond Heights\, MO\, 63117\, United States
CATEGORIES:Book Discussion,Children's Programming,Homeschool
ATTACH;FMTTYPE=image/jpeg:https://www.richmondheightslibrary.org/wp-content/uploads/2025/10/Book-Club-Long-Slider-Nov-2025.jpg
END:VEVENT
BEGIN:VEVENT
DTSTART;TZID=America/Chicago:20251117T100000
DTEND;TZID=America/Chicago:20251117T103000
DTSTAMP:20260420T164833
CREATED:20251020T180036Z
LAST-MODIFIED:20251020T180037Z
UID:2732-1763373600-1763375400@www.richmondheightslibrary.org
SUMMARY:Storytime at the Library!
DESCRIPTION:Young children & their caregivers are invited to join us in the Children’s Library for Stories\, Songs\, and Playtime! \n\n\n\nEvery week at 10am.
URL:https://www.richmondheightslibrary.org/event/storytime-at-the-library-11/
LOCATION:MO
CATEGORIES:Children's Programming,Storytimes
ATTACH;FMTTYPE=image/png:https://www.richmondheightslibrary.org/wp-content/uploads/2025/10/Storytime-Long-1.png
END:VEVENT
BEGIN:VEVENT
DTSTART;TZID=America/Chicago:20251119T160000
DTEND;TZID=America/Chicago:20251119T170000
DTSTAMP:20260420T164833
CREATED:20251021T170316Z
LAST-MODIFIED:20251021T174113Z
UID:2753-1763568000-1763571600@www.richmondheightslibrary.org
SUMMARY:Game Play Wednesdays: Dog Man!
DESCRIPTION:
URL:https://www.richmondheightslibrary.org/event/game-play-wednesdays-dog-man/
LOCATION:Richmond Heights Memorial Library – Program Room\, 8001 Dale Avenue\, Richmond Heights\, MO\, 63117\, United States
CATEGORIES:Children's Programming,Homeschool
ATTACH;FMTTYPE=image/jpeg:https://www.richmondheightslibrary.org/wp-content/uploads/2025/10/Game-Play-Long-Slider-Nov-2025.jpg
END:VEVENT
BEGIN:VEVENT
DTSTART;TZID=America/Chicago:20251120T160000
DTEND;TZID=America/Chicago:20251120T170000
DTSTAMP:20260420T164833
CREATED:20251021T163211Z
LAST-MODIFIED:20251021T174145Z
UID:2745-1763654400-1763658000@www.richmondheightslibrary.org
SUMMARY:Kids Create! Fuse Beads
DESCRIPTION:Come make fuse bead creations with your friends!
URL:https://www.richmondheightslibrary.org/event/kids-create-fuse-beads/
LOCATION:Richmond Heights Memorial Library – Program Room\, 8001 Dale Avenue\, Richmond Heights\, MO\, 63117\, United States
CATEGORIES:Arts & Crafts,Children's Programming,Homeschool,STEM
ATTACH;FMTTYPE=image/jpeg:https://www.richmondheightslibrary.org/wp-content/uploads/2025/10/Kids-Create-Long-Slider-November-2025.jpg
END:VEVENT
BEGIN:VEVENT
DTSTART;TZID=America/Chicago:20251122T100000
DTEND;TZID=America/Chicago:20251122T103000
DTSTAMP:20260420T164833
CREATED:20251021T152703Z
LAST-MODIFIED:20251021T174213Z
UID:2739-1763805600-1763807400@www.richmondheightslibrary.org
SUMMARY:Dinosaur Saturday Storytime
DESCRIPTION:
URL:https://www.richmondheightslibrary.org/event/dinosaur-saturday-storytime/
LOCATION:Richmond Heights Memorial Library – Children’s Library\, 8001 Dale Avenue\, Richmond Heights\, MO\, 63117\, United States
CATEGORIES:Children's Programming,Storytimes
ATTACH;FMTTYPE=image/jpeg:https://www.richmondheightslibrary.org/wp-content/uploads/2025/10/Saturday-Storytime-Long-Slider-Nov-2025.jpg
END:VEVENT
BEGIN:VEVENT
DTSTART;TZID=America/Chicago:20251122T140000
DTEND;TZID=America/Chicago:20251122T153000
DTSTAMP:20260420T164833
CREATED:20251021T165131Z
LAST-MODIFIED:20251021T174245Z
UID:2749-1763820000-1763825400@www.richmondheightslibrary.org
SUMMARY:Tabletop Role Playing: The Traveler's Inn
DESCRIPTION:Solve the Mystery of the Traveler’s Inn! \n\n\n\nWe will have a role playing adventure with snacks\, creativity and puzzles. Beginners are welcome! Please register.
URL:https://www.richmondheightslibrary.org/event/tabletop-role-playing-the-travelers-inn/
LOCATION:Richmond Heights Memorial Library – Program Room\, 8001 Dale Avenue\, Richmond Heights\, MO\, 63117\, United States
CATEGORIES:Children's Programming,Homeschool
ATTACH;FMTTYPE=image/jpeg:https://www.richmondheightslibrary.org/wp-content/uploads/2025/10/Tabletop-Role-Playing-Games-Nov-2025-1.jpg
END:VEVENT
BEGIN:VEVENT
DTSTART;TZID=America/Chicago:20251124T100000
DTEND;TZID=America/Chicago:20251124T103000
DTSTAMP:20260420T164833
CREATED:20251020T192918Z
LAST-MODIFIED:20251020T192919Z
UID:2734-1763978400-1763980200@www.richmondheightslibrary.org
SUMMARY:Storytime at the Library!
DESCRIPTION:Young children & their caregivers are invited to join us in the Children’s Library for Stories\, Songs\, and Playtime! \n\n\n\nEvery week at 10am.
URL:https://www.richmondheightslibrary.org/event/storytime-at-the-library-12/
LOCATION:Richmond Heights Memorial Library – Children’s Library\, 8001 Dale Avenue\, Richmond Heights\, MO\, 63117\, United States
CATEGORIES:Children's Programming,Storytimes
ATTACH;FMTTYPE=image/png:https://www.richmondheightslibrary.org/wp-content/uploads/2025/10/Storytime-Long-1.png
END:VEVENT
END:VCALENDAR