BEGIN:VCALENDAR
VERSION:2.0
PRODID:-//Richmond Heights Memorial Library - ECPv6.15.20//NONSGML v1.0//EN
CALSCALE:GREGORIAN
METHOD:PUBLISH
X-ORIGINAL-URL:https://www.richmondheightslibrary.org
X-WR-CALDESC:Events for Richmond Heights Memorial Library
REFRESH-INTERVAL;VALUE=DURATION:PT1H
X-Robots-Tag:noindex
X-PUBLISHED-TTL:PT1H
BEGIN:VTIMEZONE
TZID:America/Chicago
BEGIN:DAYLIGHT
TZOFFSETFROM:-0600
TZOFFSETTO:-0500
TZNAME:CDT
DTSTART:20240310T080000
END:DAYLIGHT
BEGIN:STANDARD
TZOFFSETFROM:-0500
TZOFFSETTO:-0600
TZNAME:CST
DTSTART:20241103T070000
END:STANDARD
BEGIN:DAYLIGHT
TZOFFSETFROM:-0600
TZOFFSETTO:-0500
TZNAME:CDT
DTSTART:20250309T080000
END:DAYLIGHT
BEGIN:STANDARD
TZOFFSETFROM:-0500
TZOFFSETTO:-0600
TZNAME:CST
DTSTART:20251102T070000
END:STANDARD
BEGIN:DAYLIGHT
TZOFFSETFROM:-0600
TZOFFSETTO:-0500
TZNAME:CDT
DTSTART:20260308T080000
END:DAYLIGHT
BEGIN:STANDARD
TZOFFSETFROM:-0500
TZOFFSETTO:-0600
TZNAME:CST
DTSTART:20261101T070000
END:STANDARD
BEGIN:DAYLIGHT
TZOFFSETFROM:-0600
TZOFFSETTO:-0500
TZNAME:CDT
DTSTART:20270314T080000
END:DAYLIGHT
BEGIN:STANDARD
TZOFFSETFROM:-0500
TZOFFSETTO:-0600
TZNAME:CST
DTSTART:20271107T070000
END:STANDARD
END:VTIMEZONE
BEGIN:VEVENT
DTSTART;TZID=America/Chicago:20260420T100000
DTEND;TZID=America/Chicago:20260420T103000
DTSTAMP:20260421T001745
CREATED:20260327T202329Z
LAST-MODIFIED:20260327T202329Z
UID:3838-1776679200-1776681000@www.richmondheightslibrary.org
SUMMARY:Storytime at the Library!
DESCRIPTION:Young children & their caregivers are invited to join us in the Children’s Library for Stories\, Songs\, and Playtime! \n\n\n\nEvery week at 10am.
URL:https://www.richmondheightslibrary.org/event/storytime-at-the-library-31/
LOCATION:Richmond Heights Memorial Library – Children’s Library\, 8001 Dale Avenue\, Richmond Heights\, MO\, 63117\, United States
CATEGORIES:Children's Programming,Storytimes
ATTACH;FMTTYPE=image/png:https://www.richmondheightslibrary.org/wp-content/uploads/2025/10/Storytime-Long-1.png
END:VEVENT
BEGIN:VEVENT
DTSTART;TZID=America/Chicago:20260413T100000
DTEND;TZID=America/Chicago:20260413T103000
DTSTAMP:20260421T001745
CREATED:20260327T202259Z
LAST-MODIFIED:20260327T202300Z
UID:3836-1776074400-1776076200@www.richmondheightslibrary.org
SUMMARY:Storytime at the Library!
DESCRIPTION:Young children & their caregivers are invited to join us in the Children’s Library for Stories\, Songs\, and Playtime! \n\n\n\nEvery week at 10am.
URL:https://www.richmondheightslibrary.org/event/storytime-at-the-library-30/
LOCATION:Richmond Heights Memorial Library – Children’s Library\, 8001 Dale Avenue\, Richmond Heights\, MO\, 63117\, United States
CATEGORIES:Children's Programming,Storytimes
ATTACH;FMTTYPE=image/png:https://www.richmondheightslibrary.org/wp-content/uploads/2025/10/Storytime-Long-1.png
END:VEVENT
BEGIN:VEVENT
DTSTART;TZID=America/Chicago:20260411T100000
DTEND;TZID=America/Chicago:20260411T103000
DTSTAMP:20260421T001745
CREATED:20260402T163529Z
LAST-MODIFIED:20260402T163530Z
UID:3915-1775901600-1775903400@www.richmondheightslibrary.org
SUMMARY:Bugs and Fungi Saturday Storytime
DESCRIPTION:Saturday Storytimes are for young children and their caregivers.
URL:https://www.richmondheightslibrary.org/event/bugs-and-fungi-saturday-storytime/
LOCATION:Richmond Heights Memorial Library – Children’s Library\, 8001 Dale Avenue\, Richmond Heights\, MO\, 63117\, United States
CATEGORIES:Children's Programming,Storytimes
ATTACH;FMTTYPE=image/jpeg:https://www.richmondheightslibrary.org/wp-content/uploads/2026/04/Saturday-Storytime-Long-Slider-February-2026-3.jpg
END:VEVENT
BEGIN:VEVENT
DTSTART;TZID=America/Chicago:20260406T100000
DTEND;TZID=America/Chicago:20260406T103000
DTSTAMP:20260421T001745
CREATED:20260327T202214Z
LAST-MODIFIED:20260327T202215Z
UID:3834-1775469600-1775471400@www.richmondheightslibrary.org
SUMMARY:Storytime at the Library!
DESCRIPTION:Young children & their caregivers are invited to join us in the Children’s Library for Stories\, Songs\, and Playtime! \n\n\n\nEvery week at 10am.
URL:https://www.richmondheightslibrary.org/event/storytime-at-the-library-29/
LOCATION:Richmond Heights Memorial Library – Children’s Library\, 8001 Dale Avenue\, Richmond Heights\, MO\, 63117\, United States
CATEGORIES:Children's Programming,Storytimes
ATTACH;FMTTYPE=image/png:https://www.richmondheightslibrary.org/wp-content/uploads/2025/10/Storytime-Long-1.png
END:VEVENT
BEGIN:VEVENT
DTSTART;TZID=America/Chicago:20260330T100000
DTEND;TZID=America/Chicago:20260330T103000
DTSTAMP:20260421T001745
CREATED:20260212T155424Z
LAST-MODIFIED:20260212T155425Z
UID:3414-1774864800-1774866600@www.richmondheightslibrary.org
SUMMARY:Storytime at the Library!
DESCRIPTION:Young children & their caregivers are invited to join us in the Children’s Library for Stories\, Songs\, and Playtime! \n\n\n\nEvery week at 10am.
URL:https://www.richmondheightslibrary.org/event/storytime-at-the-library-28/
LOCATION:Richmond Heights Memorial Library – Children’s Library\, 8001 Dale Avenue\, Richmond Heights\, MO\, 63117\, United States
CATEGORIES:Children's Programming,Storytimes
ATTACH;FMTTYPE=image/png:https://www.richmondheightslibrary.org/wp-content/uploads/2025/10/Storytime-Long-1.png
END:VEVENT
BEGIN:VEVENT
DTSTART;TZID=America/Chicago:20260323T100000
DTEND;TZID=America/Chicago:20260323T103000
DTSTAMP:20260421T001745
CREATED:20260212T155404Z
LAST-MODIFIED:20260212T155404Z
UID:3412-1774260000-1774261800@www.richmondheightslibrary.org
SUMMARY:Storytime at the Library!
DESCRIPTION:Young children & their caregivers are invited to join us in the Children’s Library for Stories\, Songs\, and Playtime! \n\n\n\nEvery week at 10am.
URL:https://www.richmondheightslibrary.org/event/storytime-at-the-library-27/
LOCATION:Richmond Heights Memorial Library – Children’s Library\, 8001 Dale Avenue\, Richmond Heights\, MO\, 63117\, United States
CATEGORIES:Children's Programming,Storytimes
ATTACH;FMTTYPE=image/png:https://www.richmondheightslibrary.org/wp-content/uploads/2025/10/Storytime-Long-1.png
END:VEVENT
BEGIN:VEVENT
DTSTART;TZID=America/Chicago:20260316T100000
DTEND;TZID=America/Chicago:20260316T103000
DTSTAMP:20260421T001745
CREATED:20260212T155338Z
LAST-MODIFIED:20260212T155338Z
UID:3410-1773655200-1773657000@www.richmondheightslibrary.org
SUMMARY:Storytime at the Library!
DESCRIPTION:Young children & their caregivers are invited to join us in the Children’s Library for Stories\, Songs\, and Playtime! \n\n\n\nEvery week at 10am.
URL:https://www.richmondheightslibrary.org/event/storytime-at-the-library-26/
LOCATION:Richmond Heights Memorial Library – Children’s Library\, 8001 Dale Avenue\, Richmond Heights\, MO\, 63117\, United States
CATEGORIES:Children's Programming,Storytimes
ATTACH;FMTTYPE=image/png:https://www.richmondheightslibrary.org/wp-content/uploads/2025/10/Storytime-Long-1.png
END:VEVENT
BEGIN:VEVENT
DTSTART;TZID=America/Chicago:20260309T160000
DTEND;TZID=America/Chicago:20260309T170000
DTSTAMP:20260421T001745
CREATED:20260219T180019Z
LAST-MODIFIED:20260219T180020Z
UID:3436-1773072000-1773075600@www.richmondheightslibrary.org
SUMMARY:PAWS for Reading!
DESCRIPTION:Come read & hear stories with Milo\, a specially trained and certified ADI (Assistance Dogs International) dog.
URL:https://www.richmondheightslibrary.org/event/paws-for-reading-6/
LOCATION:Richmond Heights Memorial Library – Children’s Library\, 8001 Dale Avenue\, Richmond Heights\, MO\, 63117\, United States
CATEGORIES:Children's Programming,Storytimes
ATTACH;FMTTYPE=image/jpeg:https://www.richmondheightslibrary.org/wp-content/uploads/2026/02/PAWS-Featured-image-September-2025.jpg
END:VEVENT
BEGIN:VEVENT
DTSTART;TZID=America/Chicago:20260309T100000
DTEND;TZID=America/Chicago:20260309T103000
DTSTAMP:20260421T001745
CREATED:20260212T155303Z
LAST-MODIFIED:20260212T155304Z
UID:3408-1773050400-1773052200@www.richmondheightslibrary.org
SUMMARY:Storytime at the Library!
DESCRIPTION:Young children & their caregivers are invited to join us in the Children’s Library for Stories\, Songs\, and Playtime! \n\n\n\nEvery week at 10am.
URL:https://www.richmondheightslibrary.org/event/storytime-at-the-library-25/
LOCATION:Richmond Heights Memorial Library – Children’s Library\, 8001 Dale Avenue\, Richmond Heights\, MO\, 63117\, United States
CATEGORIES:Children's Programming,Storytimes
ATTACH;FMTTYPE=image/png:https://www.richmondheightslibrary.org/wp-content/uploads/2025/10/Storytime-Long-1.png
END:VEVENT
BEGIN:VEVENT
DTSTART;TZID=America/Chicago:20260302T100000
DTEND;TZID=America/Chicago:20260302T103000
DTSTAMP:20260421T001745
CREATED:20260212T155214Z
LAST-MODIFIED:20260212T155214Z
UID:3406-1772445600-1772447400@www.richmondheightslibrary.org
SUMMARY:Storytime at the Library!
DESCRIPTION:Young children & their caregivers are invited to join us in the Children’s Library for Stories\, Songs\, and Playtime! \n\n\n\nEvery week at 10am.
URL:https://www.richmondheightslibrary.org/event/storytime-at-the-library-24/
LOCATION:Richmond Heights Memorial Library – Children’s Library\, 8001 Dale Avenue\, Richmond Heights\, MO\, 63117\, United States
CATEGORIES:Children's Programming,Storytimes
ATTACH;FMTTYPE=image/png:https://www.richmondheightslibrary.org/wp-content/uploads/2025/10/Storytime-Long-1.png
END:VEVENT
BEGIN:VEVENT
DTSTART;TZID=America/Chicago:20260301T180000
DTEND;TZID=America/Chicago:20260301T200000
DTSTAMP:20260421T001745
CREATED:20260121T172815Z
LAST-MODIFIED:20260122T224656Z
UID:3258-1772388000-1772395200@www.richmondheightslibrary.org
SUMMARY:Lunar New Year Celebration!
DESCRIPTION:Join us for this much-loved annual tradition!  Try out a variety of traditional crafts\, then prepare to be entertained at the gala performance\, all provided by the students and faculty of the St. Louis Modern Chinese School.  Don’t miss out on the Year of the Horse!
URL:https://www.richmondheightslibrary.org/event/lunar-new-year-celebration/
LOCATION:The HEIGHTS\, 8001 Dale Avenue\, Richmond Heights\, Missouri\, 63117
CATEGORIES:All Ages Programming,Arts & Crafts,Children's Programming,Storytimes
ATTACH;FMTTYPE=image/png:https://www.richmondheightslibrary.org/wp-content/uploads/2026/01/LNY-2026-slider-1-1.png
END:VEVENT
BEGIN:VEVENT
DTSTART;TZID=America/Chicago:20260223T100000
DTEND;TZID=America/Chicago:20260223T103000
DTSTAMP:20260421T001745
CREATED:20260212T155114Z
LAST-MODIFIED:20260212T155114Z
UID:3404-1771840800-1771842600@www.richmondheightslibrary.org
SUMMARY:Storytime at the Library!
DESCRIPTION:Young children & their caregivers are invited to join us in the Children’s Library for Stories\, Songs\, and Playtime! \n\n\n\nEvery week at 10am.
URL:https://www.richmondheightslibrary.org/event/storytime-at-the-library-23/
LOCATION:Richmond Heights Memorial Library – Children’s Library\, 8001 Dale Avenue\, Richmond Heights\, MO\, 63117\, United States
CATEGORIES:Children's Programming,Storytimes
ATTACH;FMTTYPE=image/png:https://www.richmondheightslibrary.org/wp-content/uploads/2025/10/Storytime-Long-1.png
END:VEVENT
BEGIN:VEVENT
DTSTART;TZID=America/Chicago:20260214T100000
DTEND;TZID=America/Chicago:20260214T103000
DTSTAMP:20260421T001745
CREATED:20260126T203238Z
LAST-MODIFIED:20260126T203238Z
UID:3290-1771063200-1771065000@www.richmondheightslibrary.org
SUMMARY:Valentine's Day Saturday Storytime
DESCRIPTION:Saturday Storytimes are for young children and their caregivers.
URL:https://www.richmondheightslibrary.org/event/valentines-day-saturday-storytime/
LOCATION:Richmond Heights Memorial Library – Children’s Library\, 8001 Dale Avenue\, Richmond Heights\, MO\, 63117\, United States
CATEGORIES:Children's Programming,Storytimes
ATTACH;FMTTYPE=image/jpeg:https://www.richmondheightslibrary.org/wp-content/uploads/2026/01/Saturday-Storytime-Long-Slider-February-2026-1.jpg
END:VEVENT
BEGIN:VEVENT
DTSTART;TZID=America/Chicago:20260209T160000
DTEND;TZID=America/Chicago:20260209T170000
DTSTAMP:20260421T001745
CREATED:20260116T204531Z
LAST-MODIFIED:20260209T153730Z
UID:3218-1770652800-1770656400@www.richmondheightslibrary.org
SUMMARY:PAWS for Reading!
DESCRIPTION:Our apologies. This event is canceled for today.  \n\n\n\nCome read & hear stories with Milo\, a specially trained and certified ADI (Assistance Dogs International) dog.
URL:https://www.richmondheightslibrary.org/event/paws-for-reading-5/
LOCATION:Richmond Heights Memorial Library – Children’s Library\, 8001 Dale Avenue\, Richmond Heights\, MO\, 63117\, United States
CATEGORIES:Children's Programming,Storytimes
ATTACH;FMTTYPE=image/png:https://www.richmondheightslibrary.org/wp-content/uploads/2026/01/PAWS-Featured-image-Canceled.png
END:VEVENT
BEGIN:VEVENT
DTSTART;TZID=America/Chicago:20260209T100000
DTEND;TZID=America/Chicago:20260209T103000
DTSTAMP:20260421T001745
CREATED:20251229T184617Z
LAST-MODIFIED:20251229T184618Z
UID:3182-1770631200-1770633000@www.richmondheightslibrary.org
SUMMARY:Storytime at the Library!
DESCRIPTION:Young children & their caregivers are invited to join us in the Children’s Library for Stories\, Songs\, and Playtime! \n\n\n\nEvery week at 10am.
URL:https://www.richmondheightslibrary.org/event/storytime-at-the-library-22/
LOCATION:Richmond Heights Memorial Library – Children’s Library\, 8001 Dale Avenue\, Richmond Heights\, MO\, 63117\, United States
CATEGORIES:Children's Programming,Storytimes
ATTACH;FMTTYPE=image/png:https://www.richmondheightslibrary.org/wp-content/uploads/2025/10/Storytime-Long-1.png
END:VEVENT
BEGIN:VEVENT
DTSTART;TZID=America/Chicago:20260202T100000
DTEND;TZID=America/Chicago:20260202T103000
DTSTAMP:20260421T001745
CREATED:20251229T184541Z
LAST-MODIFIED:20251229T184542Z
UID:3180-1770026400-1770028200@www.richmondheightslibrary.org
SUMMARY:Storytime at the Library!
DESCRIPTION:Young children & their caregivers are invited to join us in the Children’s Library for Stories\, Songs\, and Playtime! \n\n\n\nEvery week at 10am.
URL:https://www.richmondheightslibrary.org/event/storytime-at-the-library-21/
LOCATION:Richmond Heights Memorial Library – Children’s Library\, 8001 Dale Avenue\, Richmond Heights\, MO\, 63117\, United States
CATEGORIES:Children's Programming,Storytimes
ATTACH;FMTTYPE=image/png:https://www.richmondheightslibrary.org/wp-content/uploads/2025/10/Storytime-Long-1.png
END:VEVENT
BEGIN:VEVENT
DTSTART;TZID=America/Chicago:20260126T100000
DTEND;TZID=America/Chicago:20260126T103000
DTSTAMP:20260421T001745
CREATED:20251229T184445Z
LAST-MODIFIED:20251229T184445Z
UID:3178-1769421600-1769423400@www.richmondheightslibrary.org
SUMMARY:Storytime at the Library!
DESCRIPTION:Young children & their caregivers are invited to join us in the Children’s Library for Stories\, Songs\, and Playtime! \n\n\n\nEvery week at 10am.
URL:https://www.richmondheightslibrary.org/event/storytime-at-the-library-20/
LOCATION:Richmond Heights Memorial Library – Children’s Library\, 8001 Dale Avenue\, Richmond Heights\, MO\, 63117\, United States
CATEGORIES:Children's Programming,Storytimes
ATTACH;FMTTYPE=image/png:https://www.richmondheightslibrary.org/wp-content/uploads/2025/10/Storytime-Long-1.png
END:VEVENT
BEGIN:VEVENT
DTSTART;TZID=America/Chicago:20260112T160000
DTEND;TZID=America/Chicago:20260112T170000
DTSTAMP:20260421T001745
CREATED:20251216T185047Z
LAST-MODIFIED:20251216T185048Z
UID:3085-1768233600-1768237200@www.richmondheightslibrary.org
SUMMARY:PAWS for Reading!
DESCRIPTION:Come read & hear stories with Milo\, a specially trained and certified ADI (Assistance Dogs International) dog.
URL:https://www.richmondheightslibrary.org/event/paws-for-reading-4/
LOCATION:Richmond Heights Memorial Library – Children’s Library\, 8001 Dale Avenue\, Richmond Heights\, MO\, 63117\, United States
CATEGORIES:Children's Programming,Storytimes
ATTACH;FMTTYPE=image/png:https://www.richmondheightslibrary.org/wp-content/uploads/2025/09/PAWS-Featured-image-September-2025.png
END:VEVENT
BEGIN:VEVENT
DTSTART;TZID=America/Chicago:20260112T100000
DTEND;TZID=America/Chicago:20260112T103000
DTSTAMP:20260421T001745
CREATED:20251229T184359Z
LAST-MODIFIED:20251229T184400Z
UID:3176-1768212000-1768213800@www.richmondheightslibrary.org
SUMMARY:Storytime at the Library!
DESCRIPTION:Young children & their caregivers are invited to join us in the Children’s Library for Stories\, Songs\, and Playtime! \n\n\n\nEvery week at 10am.
URL:https://www.richmondheightslibrary.org/event/storytime-at-the-library-19/
LOCATION:Richmond Heights Memorial Library – Children’s Library\, 8001 Dale Avenue\, Richmond Heights\, MO\, 63117\, United States
CATEGORIES:Children's Programming,Storytimes
ATTACH;FMTTYPE=image/png:https://www.richmondheightslibrary.org/wp-content/uploads/2025/10/Storytime-Long-1.png
END:VEVENT
BEGIN:VEVENT
DTSTART;TZID=America/Chicago:20260110T100000
DTEND;TZID=America/Chicago:20260110T103000
DTSTAMP:20260421T001745
CREATED:20251216T012002Z
LAST-MODIFIED:20251223T203344Z
UID:3074-1768039200-1768041000@www.richmondheightslibrary.org
SUMMARY:Scaly and Slimy Animals Saturday Storytime
DESCRIPTION:Saturday Storytimes are for young children and their caregivers.
URL:https://www.richmondheightslibrary.org/event/scaly-and-slimy-animals-saturday-storytime/
LOCATION:Richmond Heights Memorial Library – Children’s Library\, 8001 Dale Avenue\, Richmond Heights\, MO\, 63117\, United States
CATEGORIES:Children's Programming,Storytimes
ATTACH;FMTTYPE=image/jpeg:https://www.richmondheightslibrary.org/wp-content/uploads/2025/12/Saturday-Storytime-Long-Slider-January-2026-1.jpg
END:VEVENT
BEGIN:VEVENT
DTSTART;TZID=America/Chicago:20260105T100000
DTEND;TZID=America/Chicago:20260105T103000
DTSTAMP:20260421T001745
CREATED:20251121T172933Z
LAST-MODIFIED:20251121T172934Z
UID:2897-1767607200-1767609000@www.richmondheightslibrary.org
SUMMARY:Storytime at the Library!
DESCRIPTION:Young children & their caregivers are invited to join us in the Children’s Library for Stories\, Songs\, and Playtime! \n\n\n\nEvery week at 10am.
URL:https://www.richmondheightslibrary.org/event/storytime-at-the-library-18/
LOCATION:Richmond Heights Memorial Library – Children’s Library\, 8001 Dale Avenue\, Richmond Heights\, MO\, 63117\, United States
CATEGORIES:Children's Programming,Storytimes
ATTACH;FMTTYPE=image/png:https://www.richmondheightslibrary.org/wp-content/uploads/2025/10/Storytime-Long-1.png
END:VEVENT
BEGIN:VEVENT
DTSTART;TZID=America/Chicago:20251229T100000
DTEND;TZID=America/Chicago:20251229T103000
DTSTAMP:20260421T001745
CREATED:20251121T172746Z
LAST-MODIFIED:20251121T172747Z
UID:2895-1767002400-1767004200@www.richmondheightslibrary.org
SUMMARY:Storytime at the Library!
DESCRIPTION:Young children & their caregivers are invited to join us in the Children’s Library for Stories\, Songs\, and Playtime! \n\n\n\nEvery week at 10am.
URL:https://www.richmondheightslibrary.org/event/storytime-at-the-library-17/
LOCATION:Richmond Heights Memorial Library – Children’s Library\, 8001 Dale Avenue\, Richmond Heights\, MO\, 63117\, United States
CATEGORIES:Children's Programming,Storytimes
ATTACH;FMTTYPE=image/png:https://www.richmondheightslibrary.org/wp-content/uploads/2025/10/Storytime-Long-1.png
END:VEVENT
BEGIN:VEVENT
DTSTART;TZID=America/Chicago:20251222T100000
DTEND;TZID=America/Chicago:20251222T103000
DTSTAMP:20260421T001745
CREATED:20251121T172519Z
LAST-MODIFIED:20251121T172520Z
UID:2893-1766397600-1766399400@www.richmondheightslibrary.org
SUMMARY:Storytime at the Library!
DESCRIPTION:Young children & their caregivers are invited to join us in the Children’s Library for Stories\, Songs\, and Playtime! \n\n\n\nEvery week at 10am.
URL:https://www.richmondheightslibrary.org/event/storytime-at-the-library-16/
LOCATION:Richmond Heights Memorial Library – Children’s Library\, 8001 Dale Avenue\, Richmond Heights\, MO\, 63117\, United States
CATEGORIES:Children's Programming,Storytimes
ATTACH;FMTTYPE=image/png:https://www.richmondheightslibrary.org/wp-content/uploads/2025/10/Storytime-Long-1.png
END:VEVENT
BEGIN:VEVENT
DTSTART;TZID=America/Chicago:20251215T100000
DTEND;TZID=America/Chicago:20251215T103000
DTSTAMP:20260421T001745
CREATED:20251121T172341Z
LAST-MODIFIED:20251121T172341Z
UID:2891-1765792800-1765794600@www.richmondheightslibrary.org
SUMMARY:Storytime at the Library!
DESCRIPTION:Young children & their caregivers are invited to join us in the Children’s Library for Stories\, Songs\, and Playtime! \n\n\n\nEvery week at 10am.
URL:https://www.richmondheightslibrary.org/event/storytime-at-the-library-15/
LOCATION:Richmond Heights Memorial Library – Children’s Library\, 8001 Dale Avenue\, Richmond Heights\, MO\, 63117\, United States
CATEGORIES:Children's Programming,Storytimes
ATTACH;FMTTYPE=image/png:https://www.richmondheightslibrary.org/wp-content/uploads/2025/10/Storytime-Long-1.png
END:VEVENT
BEGIN:VEVENT
DTSTART;TZID=America/Chicago:20251208T100000
DTEND;TZID=America/Chicago:20251208T103000
DTSTAMP:20260421T001745
CREATED:20251121T172143Z
LAST-MODIFIED:20251121T172144Z
UID:2888-1765188000-1765189800@www.richmondheightslibrary.org
SUMMARY:Storytime at the Library!
DESCRIPTION:Young children & their caregivers are invited to join us in the Children’s Library for Stories\, Songs\, and Playtime! \n\n\n\nEvery week at 10am.
URL:https://www.richmondheightslibrary.org/event/storytime-at-the-library-14/
LOCATION:Richmond Heights Memorial Library – Children’s Library\, 8001 Dale Avenue\, Richmond Heights\, MO\, 63117\, United States
CATEGORIES:Children's Programming,Storytimes
ATTACH;FMTTYPE=image/png:https://www.richmondheightslibrary.org/wp-content/uploads/2025/10/Storytime-Long-1.png
END:VEVENT
BEGIN:VEVENT
DTSTART;TZID=America/Chicago:20251201T100000
DTEND;TZID=America/Chicago:20251201T103000
DTSTAMP:20260421T001745
CREATED:20251020T193116Z
LAST-MODIFIED:20251020T193117Z
UID:2736-1764583200-1764585000@www.richmondheightslibrary.org
SUMMARY:Storytime at the Library!
DESCRIPTION:Young children & their caregivers are invited to join us in the Children’s Library for Stories\, Songs\, and Playtime! \n\n\n\nEvery week at 10am.
URL:https://www.richmondheightslibrary.org/event/storytime-at-the-library-13/
LOCATION:Richmond Heights Memorial Library – Children’s Library\, 8001 Dale Avenue\, Richmond Heights\, MO\, 63117\, United States
CATEGORIES:Children's Programming,Storytimes
ATTACH;FMTTYPE=image/png:https://www.richmondheightslibrary.org/wp-content/uploads/2025/10/Storytime-Long-1.png
END:VEVENT
BEGIN:VEVENT
DTSTART;TZID=America/Chicago:20251124T100000
DTEND;TZID=America/Chicago:20251124T103000
DTSTAMP:20260421T001745
CREATED:20251020T192918Z
LAST-MODIFIED:20251020T192919Z
UID:2734-1763978400-1763980200@www.richmondheightslibrary.org
SUMMARY:Storytime at the Library!
DESCRIPTION:Young children & their caregivers are invited to join us in the Children’s Library for Stories\, Songs\, and Playtime! \n\n\n\nEvery week at 10am.
URL:https://www.richmondheightslibrary.org/event/storytime-at-the-library-12/
LOCATION:Richmond Heights Memorial Library – Children’s Library\, 8001 Dale Avenue\, Richmond Heights\, MO\, 63117\, United States
CATEGORIES:Children's Programming,Storytimes
ATTACH;FMTTYPE=image/png:https://www.richmondheightslibrary.org/wp-content/uploads/2025/10/Storytime-Long-1.png
END:VEVENT
BEGIN:VEVENT
DTSTART;TZID=America/Chicago:20251122T100000
DTEND;TZID=America/Chicago:20251122T103000
DTSTAMP:20260421T001745
CREATED:20251021T152703Z
LAST-MODIFIED:20251021T174213Z
UID:2739-1763805600-1763807400@www.richmondheightslibrary.org
SUMMARY:Dinosaur Saturday Storytime
DESCRIPTION:
URL:https://www.richmondheightslibrary.org/event/dinosaur-saturday-storytime/
LOCATION:Richmond Heights Memorial Library – Children’s Library\, 8001 Dale Avenue\, Richmond Heights\, MO\, 63117\, United States
CATEGORIES:Children's Programming,Storytimes
ATTACH;FMTTYPE=image/jpeg:https://www.richmondheightslibrary.org/wp-content/uploads/2025/10/Saturday-Storytime-Long-Slider-Nov-2025.jpg
END:VEVENT
BEGIN:VEVENT
DTSTART;TZID=America/Chicago:20251117T100000
DTEND;TZID=America/Chicago:20251117T103000
DTSTAMP:20260421T001745
CREATED:20251020T180036Z
LAST-MODIFIED:20251020T180037Z
UID:2732-1763373600-1763375400@www.richmondheightslibrary.org
SUMMARY:Storytime at the Library!
DESCRIPTION:Young children & their caregivers are invited to join us in the Children’s Library for Stories\, Songs\, and Playtime! \n\n\n\nEvery week at 10am.
URL:https://www.richmondheightslibrary.org/event/storytime-at-the-library-11/
LOCATION:MO
CATEGORIES:Children's Programming,Storytimes
ATTACH;FMTTYPE=image/png:https://www.richmondheightslibrary.org/wp-content/uploads/2025/10/Storytime-Long-1.png
END:VEVENT
BEGIN:VEVENT
DTSTART;TZID=America/Chicago:20251110T160000
DTEND;TZID=America/Chicago:20251110T170000
DTSTAMP:20260421T001745
CREATED:20251015T155828Z
LAST-MODIFIED:20251021T173940Z
UID:2691-1762790400-1762794000@www.richmondheightslibrary.org
SUMMARY:PAWS for Reading
DESCRIPTION:Come read stories to Milo\, a specially trained and certified ADI (Assistance Dogs International) dog.
URL:https://www.richmondheightslibrary.org/event/paws-for-reading-2/
LOCATION:Richmond Heights Memorial Library – Children’s Library\, 8001 Dale Avenue\, Richmond Heights\, MO\, 63117\, United States
CATEGORIES:All Ages Programming,Children's Programming,Homeschool,Storytimes
ATTACH;FMTTYPE=image/png:https://www.richmondheightslibrary.org/wp-content/uploads/2025/08/PAWS-Featured-image-September-2025.png
END:VEVENT
END:VCALENDAR