BEGIN:VCALENDAR
VERSION:2.0
PRODID:-//Richmond Heights Memorial Library - ECPv6.15.20//NONSGML v1.0//EN
CALSCALE:GREGORIAN
METHOD:PUBLISH
X-WR-CALNAME:Richmond Heights Memorial Library
X-ORIGINAL-URL:https://www.richmondheightslibrary.org
X-WR-CALDESC:Events for Richmond Heights Memorial Library
REFRESH-INTERVAL;VALUE=DURATION:PT1H
X-Robots-Tag:noindex
X-PUBLISHED-TTL:PT1H
BEGIN:VTIMEZONE
TZID:America/Chicago
BEGIN:DAYLIGHT
TZOFFSETFROM:-0600
TZOFFSETTO:-0500
TZNAME:CDT
DTSTART:20250309T080000
END:DAYLIGHT
BEGIN:STANDARD
TZOFFSETFROM:-0500
TZOFFSETTO:-0600
TZNAME:CST
DTSTART:20251102T070000
END:STANDARD
BEGIN:DAYLIGHT
TZOFFSETFROM:-0600
TZOFFSETTO:-0500
TZNAME:CDT
DTSTART:20260308T080000
END:DAYLIGHT
BEGIN:STANDARD
TZOFFSETFROM:-0500
TZOFFSETTO:-0600
TZNAME:CST
DTSTART:20261101T070000
END:STANDARD
BEGIN:DAYLIGHT
TZOFFSETFROM:-0600
TZOFFSETTO:-0500
TZNAME:CDT
DTSTART:20270314T080000
END:DAYLIGHT
BEGIN:STANDARD
TZOFFSETFROM:-0500
TZOFFSETTO:-0600
TZNAME:CST
DTSTART:20271107T070000
END:STANDARD
END:VTIMEZONE
BEGIN:VEVENT
DTSTART;TZID=America/Chicago:20260427T100000
DTEND;TZID=America/Chicago:20260427T103000
DTSTAMP:20260421T000949
CREATED:20260327T202408Z
LAST-MODIFIED:20260327T202408Z
UID:3840-1777284000-1777285800@www.richmondheightslibrary.org
SUMMARY:Storytime at the Library!
DESCRIPTION:Young children & their caregivers are invited to join us in the Children’s Library for Stories\, Songs\, and Playtime! \n\n\n\nEvery week at 10am.
URL:https://www.richmondheightslibrary.org/event/storytime-at-the-library-32/
LOCATION:Richmond Heights Memorial Library – Children’s Library\, 8001 Dale Avenue\, Richmond Heights\, MO\, 63117\, United States
CATEGORIES:Children's Programming,Storytimes
ATTACH;FMTTYPE=image/png:https://www.richmondheightslibrary.org/wp-content/uploads/2025/10/Storytime-Long-1.png
END:VEVENT
BEGIN:VEVENT
DTSTART;TZID=America/Chicago:20260504T100000
DTEND;TZID=America/Chicago:20260504T103000
DTSTAMP:20260421T000949
CREATED:20260327T202521Z
LAST-MODIFIED:20260327T202522Z
UID:3842-1777888800-1777890600@www.richmondheightslibrary.org
SUMMARY:Storytime at the Library!
DESCRIPTION:Young children & their caregivers are invited to join us in the Children’s Library for Stories\, Songs\, and Playtime! \n\n\n\nEvery week at 10am.
URL:https://www.richmondheightslibrary.org/event/storytime-at-the-library-33/
LOCATION:Richmond Heights Memorial Library – Children’s Library\, 8001 Dale Avenue\, Richmond Heights\, MO\, 63117\, United States
CATEGORIES:Children's Programming,Storytimes
ATTACH;FMTTYPE=image/png:https://www.richmondheightslibrary.org/wp-content/uploads/2025/10/Storytime-Long-1.png
END:VEVENT
BEGIN:VEVENT
DTSTART;TZID=America/Chicago:20260504T160000
DTEND;TZID=America/Chicago:20260504T170000
DTSTAMP:20260421T000949
CREATED:20260420T170053Z
LAST-MODIFIED:20260420T170054Z
UID:4016-1777910400-1777914000@www.richmondheightslibrary.org
SUMMARY:PAWS for Reading!
DESCRIPTION:Come read & hear stories with Milo\, a specially trained and certified ADI (Assistance Dogs International) dog.
URL:https://www.richmondheightslibrary.org/event/paws-for-reading-7/
LOCATION:Richmond Heights Memorial Library – Children’s Library\, 8001 Dale Avenue\, Richmond Heights\, MO\, 63117\, United States
CATEGORIES:Children's Programming,Storytimes
ATTACH;FMTTYPE=image/jpeg:https://www.richmondheightslibrary.org/wp-content/uploads/2026/02/PAWS-Featured-image-September-2025.jpg
END:VEVENT
BEGIN:VEVENT
DTSTART;TZID=America/Chicago:20260509T100000
DTEND;TZID=America/Chicago:20260509T103000
DTSTAMP:20260421T000949
CREATED:20260420T170506Z
LAST-MODIFIED:20260420T170507Z
UID:4019-1778320800-1778322600@www.richmondheightslibrary.org
SUMMARY:Mother's Day Saturday Storytime
DESCRIPTION:Saturday Storytimes are for young children and their caregivers.
URL:https://www.richmondheightslibrary.org/event/mothers-day-saturday-storytime/
LOCATION:Richmond Heights Memorial Library – Children’s Library\, 8001 Dale Avenue\, Richmond Heights\, MO\, 63117\, United States
CATEGORIES:Children's Programming,Storytimes
ATTACH;FMTTYPE=image/png:https://www.richmondheightslibrary.org/wp-content/uploads/2026/04/Saturday-Storytime-Long-Slider.png
END:VEVENT
BEGIN:VEVENT
DTSTART;TZID=America/Chicago:20260511T100000
DTEND;TZID=America/Chicago:20260511T103000
DTSTAMP:20260421T000949
CREATED:20260327T202549Z
LAST-MODIFIED:20260327T202550Z
UID:3844-1778493600-1778495400@www.richmondheightslibrary.org
SUMMARY:Storytime at the Library!
DESCRIPTION:Young children & their caregivers are invited to join us in the Children’s Library for Stories\, Songs\, and Playtime! \n\n\n\nEvery week at 10am.
URL:https://www.richmondheightslibrary.org/event/storytime-at-the-library-34/
LOCATION:Richmond Heights Memorial Library – Children’s Library\, 8001 Dale Avenue\, Richmond Heights\, MO\, 63117\, United States
CATEGORIES:Children's Programming,Storytimes
ATTACH;FMTTYPE=image/png:https://www.richmondheightslibrary.org/wp-content/uploads/2025/10/Storytime-Long-1.png
END:VEVENT
BEGIN:VEVENT
DTSTART;TZID=America/Chicago:20260518T100000
DTEND;TZID=America/Chicago:20260518T103000
DTSTAMP:20260421T000949
CREATED:20260327T202618Z
LAST-MODIFIED:20260327T202619Z
UID:3846-1779098400-1779100200@www.richmondheightslibrary.org
SUMMARY:Storytime at the Library!
DESCRIPTION:Young children & their caregivers are invited to join us in the Children’s Library for Stories\, Songs\, and Playtime! \n\n\n\nEvery week at 10am.
URL:https://www.richmondheightslibrary.org/event/storytime-at-the-library-35/
LOCATION:Richmond Heights Memorial Library – Children’s Library\, 8001 Dale Avenue\, Richmond Heights\, MO\, 63117\, United States
CATEGORIES:Children's Programming,Storytimes
ATTACH;FMTTYPE=image/png:https://www.richmondheightslibrary.org/wp-content/uploads/2025/10/Storytime-Long-1.png
END:VEVENT
END:VCALENDAR