BEGIN:VCALENDAR
VERSION:2.0
PRODID:-//Richmond Heights Memorial Library - ECPv6.15.20//NONSGML v1.0//EN
CALSCALE:GREGORIAN
METHOD:PUBLISH
X-WR-CALNAME:Richmond Heights Memorial Library
X-ORIGINAL-URL:https://www.richmondheightslibrary.org
X-WR-CALDESC:Events for Richmond Heights Memorial Library
REFRESH-INTERVAL;VALUE=DURATION:PT1H
X-Robots-Tag:noindex
X-PUBLISHED-TTL:PT1H
BEGIN:VTIMEZONE
TZID:America/Chicago
BEGIN:DAYLIGHT
TZOFFSETFROM:-0600
TZOFFSETTO:-0500
TZNAME:CDT
DTSTART:20240310T080000
END:DAYLIGHT
BEGIN:STANDARD
TZOFFSETFROM:-0500
TZOFFSETTO:-0600
TZNAME:CST
DTSTART:20241103T070000
END:STANDARD
BEGIN:DAYLIGHT
TZOFFSETFROM:-0600
TZOFFSETTO:-0500
TZNAME:CDT
DTSTART:20250309T080000
END:DAYLIGHT
BEGIN:STANDARD
TZOFFSETFROM:-0500
TZOFFSETTO:-0600
TZNAME:CST
DTSTART:20251102T070000
END:STANDARD
BEGIN:DAYLIGHT
TZOFFSETFROM:-0600
TZOFFSETTO:-0500
TZNAME:CDT
DTSTART:20260308T080000
END:DAYLIGHT
BEGIN:STANDARD
TZOFFSETFROM:-0500
TZOFFSETTO:-0600
TZNAME:CST
DTSTART:20261101T070000
END:STANDARD
END:VTIMEZONE
BEGIN:VEVENT
DTSTART;TZID=America/Chicago:20251208T100000
DTEND;TZID=America/Chicago:20251208T103000
DTSTAMP:20260421T035231
CREATED:20251121T172143Z
LAST-MODIFIED:20251121T172144Z
UID:2888-1765188000-1765189800@www.richmondheightslibrary.org
SUMMARY:Storytime at the Library!
DESCRIPTION:Young children & their caregivers are invited to join us in the Children’s Library for Stories\, Songs\, and Playtime! \n\n\n\nEvery week at 10am.
URL:https://www.richmondheightslibrary.org/event/storytime-at-the-library-14/
LOCATION:Richmond Heights Memorial Library – Children’s Library\, 8001 Dale Avenue\, Richmond Heights\, MO\, 63117\, United States
CATEGORIES:Children's Programming,Storytimes
ATTACH;FMTTYPE=image/png:https://www.richmondheightslibrary.org/wp-content/uploads/2025/10/Storytime-Long-1.png
END:VEVENT
BEGIN:VEVENT
DTSTART;TZID=America/Chicago:20251201T100000
DTEND;TZID=America/Chicago:20251201T103000
DTSTAMP:20260421T035231
CREATED:20251020T193116Z
LAST-MODIFIED:20251020T193117Z
UID:2736-1764583200-1764585000@www.richmondheightslibrary.org
SUMMARY:Storytime at the Library!
DESCRIPTION:Young children & their caregivers are invited to join us in the Children’s Library for Stories\, Songs\, and Playtime! \n\n\n\nEvery week at 10am.
URL:https://www.richmondheightslibrary.org/event/storytime-at-the-library-13/
LOCATION:Richmond Heights Memorial Library – Children’s Library\, 8001 Dale Avenue\, Richmond Heights\, MO\, 63117\, United States
CATEGORIES:Children's Programming,Storytimes
ATTACH;FMTTYPE=image/png:https://www.richmondheightslibrary.org/wp-content/uploads/2025/10/Storytime-Long-1.png
END:VEVENT
BEGIN:VEVENT
DTSTART;TZID=America/Chicago:20251124T100000
DTEND;TZID=America/Chicago:20251124T103000
DTSTAMP:20260421T035231
CREATED:20251020T192918Z
LAST-MODIFIED:20251020T192919Z
UID:2734-1763978400-1763980200@www.richmondheightslibrary.org
SUMMARY:Storytime at the Library!
DESCRIPTION:Young children & their caregivers are invited to join us in the Children’s Library for Stories\, Songs\, and Playtime! \n\n\n\nEvery week at 10am.
URL:https://www.richmondheightslibrary.org/event/storytime-at-the-library-12/
LOCATION:Richmond Heights Memorial Library – Children’s Library\, 8001 Dale Avenue\, Richmond Heights\, MO\, 63117\, United States
CATEGORIES:Children's Programming,Storytimes
ATTACH;FMTTYPE=image/png:https://www.richmondheightslibrary.org/wp-content/uploads/2025/10/Storytime-Long-1.png
END:VEVENT
BEGIN:VEVENT
DTSTART;TZID=America/Chicago:20251122T100000
DTEND;TZID=America/Chicago:20251122T103000
DTSTAMP:20260421T035231
CREATED:20251021T152703Z
LAST-MODIFIED:20251021T174213Z
UID:2739-1763805600-1763807400@www.richmondheightslibrary.org
SUMMARY:Dinosaur Saturday Storytime
DESCRIPTION:
URL:https://www.richmondheightslibrary.org/event/dinosaur-saturday-storytime/
LOCATION:Richmond Heights Memorial Library – Children’s Library\, 8001 Dale Avenue\, Richmond Heights\, MO\, 63117\, United States
CATEGORIES:Children's Programming,Storytimes
ATTACH;FMTTYPE=image/jpeg:https://www.richmondheightslibrary.org/wp-content/uploads/2025/10/Saturday-Storytime-Long-Slider-Nov-2025.jpg
END:VEVENT
BEGIN:VEVENT
DTSTART;TZID=America/Chicago:20251117T100000
DTEND;TZID=America/Chicago:20251117T103000
DTSTAMP:20260421T035231
CREATED:20251020T180036Z
LAST-MODIFIED:20251020T180037Z
UID:2732-1763373600-1763375400@www.richmondheightslibrary.org
SUMMARY:Storytime at the Library!
DESCRIPTION:Young children & their caregivers are invited to join us in the Children’s Library for Stories\, Songs\, and Playtime! \n\n\n\nEvery week at 10am.
URL:https://www.richmondheightslibrary.org/event/storytime-at-the-library-11/
LOCATION:MO
CATEGORIES:Children's Programming,Storytimes
ATTACH;FMTTYPE=image/png:https://www.richmondheightslibrary.org/wp-content/uploads/2025/10/Storytime-Long-1.png
END:VEVENT
BEGIN:VEVENT
DTSTART;TZID=America/Chicago:20251110T160000
DTEND;TZID=America/Chicago:20251110T170000
DTSTAMP:20260421T035231
CREATED:20251015T155828Z
LAST-MODIFIED:20251021T173940Z
UID:2691-1762790400-1762794000@www.richmondheightslibrary.org
SUMMARY:PAWS for Reading
DESCRIPTION:Come read stories to Milo\, a specially trained and certified ADI (Assistance Dogs International) dog.
URL:https://www.richmondheightslibrary.org/event/paws-for-reading-2/
LOCATION:Richmond Heights Memorial Library – Children’s Library\, 8001 Dale Avenue\, Richmond Heights\, MO\, 63117\, United States
CATEGORIES:All Ages Programming,Children's Programming,Homeschool,Storytimes
ATTACH;FMTTYPE=image/png:https://www.richmondheightslibrary.org/wp-content/uploads/2025/08/PAWS-Featured-image-September-2025.png
END:VEVENT
BEGIN:VEVENT
DTSTART;TZID=America/Chicago:20251110T100000
DTEND;TZID=America/Chicago:20251110T103000
DTSTAMP:20260421T035231
CREATED:20251020T175846Z
LAST-MODIFIED:20251020T175846Z
UID:2730-1762768800-1762770600@www.richmondheightslibrary.org
SUMMARY:Storytime at the Library!
DESCRIPTION:Young children & their caregivers are invited to join us in the Children’s Library for Stories\, Songs\, and Playtime! \n\n\n\nEvery week at 10am.
URL:https://www.richmondheightslibrary.org/event/storytime-at-the-library-10/
LOCATION:Richmond Heights Memorial Library – Children’s Library\, 8001 Dale Avenue\, Richmond Heights\, MO\, 63117\, United States
CATEGORIES:Children's Programming,Storytimes
ATTACH;FMTTYPE=image/png:https://www.richmondheightslibrary.org/wp-content/uploads/2025/10/Storytime-Long-1.png
END:VEVENT
BEGIN:VEVENT
DTSTART;TZID=America/Chicago:20251103T100000
DTEND;TZID=America/Chicago:20251103T103000
DTSTAMP:20260421T035231
CREATED:20251020T175638Z
LAST-MODIFIED:20251020T175639Z
UID:2728-1762164000-1762165800@www.richmondheightslibrary.org
SUMMARY:Storytime at the Library!
DESCRIPTION:Young children & their caregivers are invited to join us in the Children’s Library for Stories\, Songs\, and Playtime! \n\n\n\nEvery week at 10am.
URL:https://www.richmondheightslibrary.org/event/storytime-at-the-library-9/
LOCATION:MO
CATEGORIES:Children's Programming,Storytimes
ATTACH;FMTTYPE=image/png:https://www.richmondheightslibrary.org/wp-content/uploads/2025/10/Storytime-Long-1.png
END:VEVENT
BEGIN:VEVENT
DTSTART;TZID=America/Chicago:20251027T100000
DTEND;TZID=America/Chicago:20251027T103000
DTSTAMP:20260421T035231
CREATED:20251020T175445Z
LAST-MODIFIED:20251020T175445Z
UID:2725-1761559200-1761561000@www.richmondheightslibrary.org
SUMMARY:Storytime at the Library!
DESCRIPTION:Young children & their caregivers are invited to join us in the Children’s Library for Stories\, Songs\, and Playtime! \n\n\n\nEvery week at 10am.
URL:https://www.richmondheightslibrary.org/event/storytime-at-the-library-8/
LOCATION:Richmond Heights Memorial Library – Children’s Library\, 8001 Dale Avenue\, Richmond Heights\, MO\, 63117\, United States
CATEGORIES:Children's Programming,Storytimes
ATTACH;FMTTYPE=image/png:https://www.richmondheightslibrary.org/wp-content/uploads/2025/10/Storytime-Long-1.png
END:VEVENT
BEGIN:VEVENT
DTSTART;TZID=America/Chicago:20251013T160000
DTEND;TZID=America/Chicago:20251013T170000
DTSTAMP:20260421T035231
CREATED:20250909T155158Z
LAST-MODIFIED:20250909T155159Z
UID:2526-1760371200-1760374800@www.richmondheightslibrary.org
SUMMARY:PAWS for Reading
DESCRIPTION:Come read stories to Milo\, a specially trained and certified ADI (Assistance Dogs International) dog.
URL:https://www.richmondheightslibrary.org/event/paws-for-reading/
LOCATION:Richmond Heights Memorial Library – Children’s Library\, 8001 Dale Avenue\, Richmond Heights\, MO\, 63117\, United States
CATEGORIES:Children's Programming,Storytimes
ATTACH;FMTTYPE=image/png:https://www.richmondheightslibrary.org/wp-content/uploads/2025/09/PAWS-Featured-image-September-2025.png
END:VEVENT
BEGIN:VEVENT
DTSTART;TZID=America/Chicago:20251011T100000
DTEND;TZID=America/Chicago:20251011T103000
DTSTAMP:20260421T035231
CREATED:20250917T190355Z
LAST-MODIFIED:20250917T190355Z
UID:2588-1760176800-1760178600@www.richmondheightslibrary.org
SUMMARY:Saturday Halloween Storytime
DESCRIPTION:Join us for fun Halloween stories\, songs and a craft. For young children and their caregivers. Drop in.
URL:https://www.richmondheightslibrary.org/event/saturday-halloween-storytime/
LOCATION:Richmond Heights Memorial Library – Children’s Library\, 8001 Dale Avenue\, Richmond Heights\, MO\, 63117\, United States
CATEGORIES:Children's Programming,Storytimes
ATTACH;FMTTYPE=image/jpeg:https://www.richmondheightslibrary.org/wp-content/uploads/2025/09/Saturday-Storytime-Long-Slider-Oct-2025.jpg
END:VEVENT
BEGIN:VEVENT
DTSTART;TZID=America/Chicago:20250929T100000
DTEND;TZID=America/Chicago:20250929T103000
DTSTAMP:20260421T035231
CREATED:20250902T174757Z
LAST-MODIFIED:20250902T174758Z
UID:2503-1759140000-1759141800@www.richmondheightslibrary.org
SUMMARY:Storytime at the Library
DESCRIPTION:Young children and their caregivers are invited to join us in the Children’s Library for Stories\, Songs & Playtime!
URL:https://www.richmondheightslibrary.org/event/storytime-at-the-library-7/
LOCATION:Richmond Heights Memorial Library – Children’s Library\, 8001 Dale Avenue\, Richmond Heights\, MO\, 63117\, United States
CATEGORIES:Children's Programming,Storytimes
ATTACH;FMTTYPE=image/png:https://www.richmondheightslibrary.org/wp-content/uploads/2025/09/Storytime-Long.png
END:VEVENT
BEGIN:VEVENT
DTSTART;TZID=America/Chicago:20250922T100000
DTEND;TZID=America/Chicago:20250922T103000
DTSTAMP:20260421T035231
CREATED:20250902T174557Z
LAST-MODIFIED:20250902T174557Z
UID:2501-1758535200-1758537000@www.richmondheightslibrary.org
SUMMARY:Storytime at the Library
DESCRIPTION:Young children and their caregivers are invited to join us in the Children’s Library for Stories\, Songs & Playtime!
URL:https://www.richmondheightslibrary.org/event/storytime-at-the-library-6/
LOCATION:Richmond Heights Memorial Library – Children’s Library\, 8001 Dale Avenue\, Richmond Heights\, MO\, 63117\, United States
CATEGORIES:Children's Programming,Storytimes
ATTACH;FMTTYPE=image/png:https://www.richmondheightslibrary.org/wp-content/uploads/2025/09/Storytime-Long.png
END:VEVENT
BEGIN:VEVENT
DTSTART;TZID=America/Chicago:20250915T100000
DTEND;TZID=America/Chicago:20250915T103000
DTSTAMP:20260421T035231
CREATED:20250902T174224Z
LAST-MODIFIED:20250902T174225Z
UID:2498-1757930400-1757932200@www.richmondheightslibrary.org
SUMMARY:Storytime at the Library
DESCRIPTION:Young children and their caregivers are invited to join us in the Children’s Library for Stories\, Songs & Playtime!
URL:https://www.richmondheightslibrary.org/event/storytime-at-the-library-5/
LOCATION:Richmond Heights Memorial Library – Children’s Library\, 8001 Dale Avenue\, Richmond Heights\, MO\, 63117\, United States
CATEGORIES:Children's Programming,Storytimes
ATTACH;FMTTYPE=image/png:https://www.richmondheightslibrary.org/wp-content/uploads/2025/09/Storytime-Long.png
END:VEVENT
BEGIN:VEVENT
DTSTART;TZID=America/Chicago:20250913T100000
DTEND;TZID=America/Chicago:20250913T100000
DTSTAMP:20260421T035231
CREATED:20250811T213008Z
LAST-MODIFIED:20250816T163443Z
UID:2140-1757757600-1757757600@www.richmondheightslibrary.org
SUMMARY:Animals Down Under Storytime
DESCRIPTION:Come join in our story time all about animals from Australia.
URL:https://www.richmondheightslibrary.org/event/2140/
LOCATION:Richmond Heights Memorial Library – Children’s Library\, 8001 Dale Avenue\, Richmond Heights\, MO\, 63117\, United States
CATEGORIES:Children's Programming,Storytimes
ATTACH;FMTTYPE=image/png:https://www.richmondheightslibrary.org/wp-content/uploads/2025/08/Featured-image-Saturday-Storytime-September-2025.png
END:VEVENT
BEGIN:VEVENT
DTSTART;TZID=America/Chicago:20250908T100000
DTEND;TZID=America/Chicago:20250908T103000
DTSTAMP:20260421T035231
CREATED:20250902T173142Z
LAST-MODIFIED:20250902T173323Z
UID:2493-1757325600-1757327400@www.richmondheightslibrary.org
SUMMARY:Storytime at the Library
DESCRIPTION:Young children and their caregivers are invited to join us in the Children’s Library for Stories\, Songs & Playtime!
URL:https://www.richmondheightslibrary.org/event/storytime-at-the-library/
LOCATION:Richmond Heights Memorial Library – Children’s Library\, 8001 Dale Avenue\, Richmond Heights\, MO\, 63117\, United States
CATEGORIES:Children's Programming,Storytimes
ATTACH;FMTTYPE=image/png:https://www.richmondheightslibrary.org/wp-content/uploads/2025/09/Storytime-Long.png
END:VEVENT
BEGIN:VEVENT
DTSTART;TZID=America/Chicago:20250825T100000
DTEND;TZID=America/Chicago:20250825T103000
DTSTAMP:20260421T035231
CREATED:20250730T183257Z
LAST-MODIFIED:20250813T191917Z
UID:1584-1756116000-1756117800@www.richmondheightslibrary.org
SUMMARY:Storytime at the Library
DESCRIPTION:Young children and their caregivers are invited to join us each week for stories\, songs and more!
URL:https://www.richmondheightslibrary.org/event/storytime-at-the-library-4/
LOCATION:Richmond Heights Memorial Library – Children’s Library\, 8001 Dale Avenue\, Richmond Heights\, MO\, 63117\, United States
CATEGORIES:Children's Programming,Storytimes
ATTACH;FMTTYPE=image/png:https://www.richmondheightslibrary.org/wp-content/uploads/2025/07/Storytime-Long.png
END:VEVENT
BEGIN:VEVENT
DTSTART;TZID=America/Chicago:20250818T100000
DTEND;TZID=America/Chicago:20250818T103000
DTSTAMP:20260421T035231
CREATED:20250730T183128Z
LAST-MODIFIED:20250813T192510Z
UID:1582-1755511200-1755513000@www.richmondheightslibrary.org
SUMMARY:Storytime at the Library
DESCRIPTION:Young children and their caregivers are invited to join us each week for STORIES\, SONGS & PLAYTIME! \n\n\n\nCome join friends & make some new ones! \n\n\n\nMondays at 10am in the Children’s Library
URL:https://www.richmondheightslibrary.org/event/storytime-at-the-library-3/
LOCATION:MO
CATEGORIES:Children's Programming,Storytimes
ATTACH;FMTTYPE=image/png:https://www.richmondheightslibrary.org/wp-content/uploads/2025/07/Storytime-Long.png
END:VEVENT
BEGIN:VEVENT
DTSTART;TZID=America/Chicago:20250815T100000
DTEND;TZID=America/Chicago:20250815T100000
DTSTAMP:20260421T035231
CREATED:20250730T185630Z
LAST-MODIFIED:20250813T193745Z
UID:1597-1755252000-1755252000@www.richmondheightslibrary.org
SUMMARY:Craftibility: Storytime and Crafts for Children 16mos to 6 years
DESCRIPTION:The class is comprised of a story\, songs\, and a craft based on a book. \n\n\n\nFor ages 16 months through 6 years old. \n\n\n\nCraftibility Foundation’s mission is to teach youth to be comfortable around adults with special needs through arts and crafts. \n\n\n\nFriday\, August 15 at 10 AM. \n\n\n\nSpace is limited\, please reserve your spot by August 15. Please register for each child attending.
URL:https://www.richmondheightslibrary.org/event/1597/
LOCATION:Richmond Heights Memorial Library – Program Room\, 8001 Dale Avenue\, Richmond Heights\, MO\, 63117\, United States
CATEGORIES:Arts & Crafts,Children's Programming,Storytimes
ATTACH;FMTTYPE=image/png:https://www.richmondheightslibrary.org/wp-content/uploads/2025/07/craftability-featured-image.png
END:VEVENT
BEGIN:VEVENT
DTSTART;TZID=America/Chicago:20250811T100000
DTEND;TZID=America/Chicago:20250811T103000
DTSTAMP:20260421T035231
CREATED:20250730T183021Z
LAST-MODIFIED:20250813T192214Z
UID:1580-1754906400-1754908200@www.richmondheightslibrary.org
SUMMARY:Storytime at the Library
DESCRIPTION:Young children and their caregivers are invited to join us each week for STORIES\, SONGS & PLAYTIME! \n\n\n\nCome join friends & make some new ones!
URL:https://www.richmondheightslibrary.org/event/storytime-at-the-library-2/
LOCATION:Richmond Heights Memorial Library – Children’s Library\, 8001 Dale Avenue\, Richmond Heights\, MO\, 63117\, United States
CATEGORIES:Children's Programming,Storytimes
ATTACH;FMTTYPE=image/jpeg:https://www.richmondheightslibrary.org/wp-content/uploads/2025/07/Monday-Storytime.jpg
END:VEVENT
BEGIN:VEVENT
DTSTART;TZID=America/Chicago:20250804T100000
DTEND;TZID=America/Chicago:20250804T103000
DTSTAMP:20260421T035231
CREATED:20250730T183950Z
LAST-MODIFIED:20250801T172939Z
UID:1586-1754301600-1754303400@www.richmondheightslibrary.org
SUMMARY:Teddy Bear Picnic Storytime
DESCRIPTION:Young children and their caregivers are invited to join us for a special Monday Storytime–an indoor Teddy Bear Picnic! \nBring along your favorite teddy or stuffie.  You’ll  also get a mini-teddy to take home!  We’ll have light refreshments\, stories\, songs\, A TEDDY BEAR PARADE\, and a fun time playing with friends. \nMonday\, August 4h at 10am in the Children’s Library \n \n 
URL:https://www.richmondheightslibrary.org/event/teddy-bear-picnic-storytime/
LOCATION:Richmond Heights Memorial Library – Children’s Library\, 8001 Dale Avenue\, Richmond Heights\, MO\, 63117\, United States
CATEGORIES:Children's Programming,Storytimes
END:VEVENT
END:VCALENDAR