BEGIN:VCALENDAR
VERSION:2.0
PRODID:-//Richmond Heights Memorial Library - ECPv6.15.20//NONSGML v1.0//EN
CALSCALE:GREGORIAN
METHOD:PUBLISH
X-WR-CALNAME:Richmond Heights Memorial Library
X-ORIGINAL-URL:https://www.richmondheightslibrary.org
X-WR-CALDESC:Events for Richmond Heights Memorial Library
REFRESH-INTERVAL;VALUE=DURATION:PT1H
X-Robots-Tag:noindex
X-PUBLISHED-TTL:PT1H
BEGIN:VTIMEZONE
TZID:America/Chicago
BEGIN:DAYLIGHT
TZOFFSETFROM:-0600
TZOFFSETTO:-0500
TZNAME:CDT
DTSTART:20240310T080000
END:DAYLIGHT
BEGIN:STANDARD
TZOFFSETFROM:-0500
TZOFFSETTO:-0600
TZNAME:CST
DTSTART:20241103T070000
END:STANDARD
BEGIN:DAYLIGHT
TZOFFSETFROM:-0600
TZOFFSETTO:-0500
TZNAME:CDT
DTSTART:20250309T080000
END:DAYLIGHT
BEGIN:STANDARD
TZOFFSETFROM:-0500
TZOFFSETTO:-0600
TZNAME:CST
DTSTART:20251102T070000
END:STANDARD
BEGIN:DAYLIGHT
TZOFFSETFROM:-0600
TZOFFSETTO:-0500
TZNAME:CDT
DTSTART:20260308T080000
END:DAYLIGHT
BEGIN:STANDARD
TZOFFSETFROM:-0500
TZOFFSETTO:-0600
TZNAME:CST
DTSTART:20261101T070000
END:STANDARD
BEGIN:DAYLIGHT
TZOFFSETFROM:-0600
TZOFFSETTO:-0500
TZNAME:CDT
DTSTART:20270314T080000
END:DAYLIGHT
BEGIN:STANDARD
TZOFFSETFROM:-0500
TZOFFSETTO:-0600
TZNAME:CST
DTSTART:20271107T070000
END:STANDARD
END:VTIMEZONE
BEGIN:VEVENT
DTSTART;TZID=America/Chicago:20260414T183000
DTEND;TZID=America/Chicago:20260414T193000
DTSTAMP:20260420T063856
CREATED:20260325T165706Z
LAST-MODIFIED:20260325T165856Z
UID:3808-1776191400-1776195000@www.richmondheightslibrary.org
SUMMARY:Teen Tuesday:  Get Cooking!
DESCRIPTION:For teens ages 12 – 18 \n\n\n\nJoin us to make Garlicky Pizza Twirls & Spicy Dip!  We’ll have some to eat\, and some to take home and bake.  \n\n\n\n \n\n\n\n**Please note that gluten\, dairy\, soy\, and other allergens may be present. Be mindful if you have food allergies or sensitivities. RHML is not responsible for any health issues that may arise from participation in programs.
URL:https://www.richmondheightslibrary.org/event/teen-tuesday-get-cooking-2/
LOCATION:Richmond Heights Memorial Library – Program Room\, 8001 Dale Avenue\, Richmond Heights\, MO\, 63117\, United States
CATEGORIES:Cooking,Teen Programming
ATTACH;FMTTYPE=image/png:https://www.richmondheightslibrary.org/wp-content/uploads/2026/03/TT-Apr-26-long-slider.png
END:VEVENT
BEGIN:VEVENT
DTSTART;TZID=America/Chicago:20260317T000000
DTEND;TZID=America/Chicago:20260317T235959
DTSTAMP:20260420T063856
CREATED:20260212T152758Z
LAST-MODIFIED:20260212T160948Z
UID:3393-1773705600-1773791999@www.richmondheightslibrary.org
SUMMARY:Teen Activity Kit - Ages 12 - 18
DESCRIPTION:Teen Activity Kits are take-home kits with a different craft or activity each month.   \n\n\n\nIn March\, you’ll get supplies & instructions to make a fun DIY stress ball!  Kits always include Reading Recommendations for new teen & tween books at the library\, a snack\, and usually a little something extra.   \n\n\n\n \n\n\n\nRegister by March 11th to pick up your kit the following week. \n\n\n\nTeen Activity Kits are for teens ages 12 – 18.
URL:https://www.richmondheightslibrary.org/event/teen-activity-kit-ages-12-18/
LOCATION:Richmond Heights Memorial Library – Children’s Library\, 8001 Dale Avenue\, Richmond Heights\, MO\, 63117\, United States
CATEGORIES:Teen Programming
ATTACH;FMTTYPE=image/png:https://www.richmondheightslibrary.org/wp-content/uploads/2026/02/Mar-26-long-slider.png
END:VEVENT
BEGIN:VEVENT
DTSTART;TZID=America/Chicago:20260310T183000
DTEND;TZID=America/Chicago:20260310T193000
DTSTAMP:20260420T063856
CREATED:20260212T154835Z
LAST-MODIFIED:20260212T154836Z
UID:3400-1773167400-1773171000@www.richmondheightslibrary.org
SUMMARY:Teen Tuesday:  Get Creative!
DESCRIPTION:Teens ages 12 – 18! \n\n\n\nCome out and join us for a fun night of Paint-By-Numbers!  We’ll have a number of designs to choose from\, so everyone will get to take home your own Paint-By-Number masterpiece!   \n\n\n\nLight refreshments will be served.  \n\n\n\n**Please note that gluten\, dairy\, soy\, and other allergens may be present. Be mindful if you have food allergies or sensitivities. RHML is not responsible for any health issues that may arise from participation in programs.
URL:https://www.richmondheightslibrary.org/event/teen-tuesday-get-creative-4/
LOCATION:Richmond Heights Memorial Library – Program Room\, 8001 Dale Avenue\, Richmond Heights\, MO\, 63117\, United States
CATEGORIES:Arts & Crafts,Teen Programming
ATTACH;FMTTYPE=image/png:https://www.richmondheightslibrary.org/wp-content/uploads/2026/02/Teen-Tues-Mar-26-long-slider.png
END:VEVENT
BEGIN:VEVENT
DTSTART;TZID=America/Chicago:20260216T000000
DTEND;TZID=America/Chicago:20260223T235959
DTSTAMP:20260420T063856
CREATED:20260126T214933Z
LAST-MODIFIED:20260126T221245Z
UID:3305-1771200000-1771891199@www.richmondheightslibrary.org
SUMMARY:Teen Activity Kits - Letter Writing
DESCRIPTION:Teen Activity Kits are take-home kits for teens with a different craft or activity each month! \n\n\n\n \n\n\n\nIn February\, you’ll get supplies & tips for writing and sending letters and postcards via snail mail.  Writing a personal letter to friends or family is becoming a lost art.  You may be surprised at how fun it is to set words to paper and share your thoughts in this unique and personal way.   \n\n\n\nKits always include a snack\, recommendations for new Teen & Tween books at the library\, and usually a little something more. \n\n\n\n \n\n\n\nPlease register by February 11th to pick up the following week. \n\n\n\nTeen Activity Kits are for teens\, ages 12 – 18.
URL:https://www.richmondheightslibrary.org/event/teen-activity-kits-letter-writing/
LOCATION:Richmond Heights Memorial Library – Children’s Library\, 8001 Dale Avenue\, Richmond Heights\, MO\, 63117\, United States
CATEGORIES:Arts & Crafts,Teen Programming
ATTACH;FMTTYPE=image/png:https://www.richmondheightslibrary.org/wp-content/uploads/2026/01/TAK-Feb-26-long-slider.png
END:VEVENT
BEGIN:VEVENT
DTSTART;TZID=America/Chicago:20260210T183000
DTEND;TZID=America/Chicago:20260210T193000
DTSTAMP:20260420T063856
CREATED:20260126T220923Z
LAST-MODIFIED:20260126T221126Z
UID:3308-1770748200-1770751800@www.richmondheightslibrary.org
SUMMARY:Teen Tuesday: Get Cooking!
DESCRIPTION:Teen Tuesday: Get Cooking! \n\n\n\n \n\n\n\nTeens! Join us to make Hot Chocolate Bombs!  We’ll enjoy a cup of hot chocolate during the program and have one or two bombs to take home. \n\n\n\n \n\n\n\nThis program will include dairy products. Please note that gluten\, soy\, and other allergens may be present. Be mindful if you have food allergies or sensitivities. RHML is not responsible for any health issues that may arise from participation in programs.
URL:https://www.richmondheightslibrary.org/event/teen-tuesday-get-cooking/
LOCATION:Richmond Heights Memorial Library – Program Room\, 8001 Dale Avenue\, Richmond Heights\, MO\, 63117\, United States
CATEGORIES:Cooking,Teen Programming
ATTACH;FMTTYPE=image/png:https://www.richmondheightslibrary.org/wp-content/uploads/2026/01/Teen-Tues-Feb-26-long-slider.png
END:VEVENT
BEGIN:VEVENT
DTSTART;TZID=America/Chicago:20260120T000000
DTEND;TZID=America/Chicago:20260120T235959
DTSTAMP:20260420T063856
CREATED:20251229T183320Z
LAST-MODIFIED:20260115T155653Z
UID:3168-1768867200-1768953599@www.richmondheightslibrary.org
SUMMARY:Teen Activity Kits
DESCRIPTION:Teen Activity Kits are take-home kits for teens with a different craft or activity each month! \n\n\n\n \n\n\n\nIn January\, we’ll get ready for Valentine’s Day and craft a Quilled Heart Balloon Card.  (Or\, if hearts aren’t your thing\, make a round balloon.)  Kits always include a snack\, recommendations for new Teen & Tween books at the library\, and usually a little something more.  \n\n\n\n \n\n\n\nPlease register by January 14th to pick up the following week. \n\n\n\nTeen Activity Kits are for teens\, ages 12 – 18.
URL:https://www.richmondheightslibrary.org/event/teen-activity-kits-2/
LOCATION:Richmond Heights Memorial Library – Children’s Library\, 8001 Dale Avenue\, Richmond Heights\, MO\, 63117\, United States
CATEGORIES:Arts & Crafts,Teen Programming
ATTACH;FMTTYPE=image/png:https://www.richmondheightslibrary.org/wp-content/uploads/2025/12/TAK-Jan-26-long-slider.png
END:VEVENT
BEGIN:VEVENT
DTSTART;TZID=America/Chicago:20260113T183000
DTEND;TZID=America/Chicago:20260113T193000
DTSTAMP:20260420T063856
CREATED:20251229T184049Z
LAST-MODIFIED:20251229T185542Z
UID:3172-1768329000-1768332600@www.richmondheightslibrary.org
SUMMARY:Teen Tuesday: Game & Pizza Night
DESCRIPTION:Teen Tuesday:  Game & Pizza Night   \n\n\n\nTeens!  Come out and choose a game to play with friends\, and enjoy pizza & refreshments!  We’ll have a number of classic games to choose from.  \n\n\n\n \n\n\n\nPlease note that gluten\, dairy\, soy\, and other allergens may be present. Be mindful if you have food allergies or sensitivities. RHML is not responsible for any health issues that may arise from participation in programs.
URL:https://www.richmondheightslibrary.org/event/teen-tuesday-game-pizza-night/
LOCATION:Richmond Heights Memorial Library – Program Room\, 8001 Dale Avenue\, Richmond Heights\, MO\, 63117\, United States
CATEGORIES:Teen Programming
ATTACH;FMTTYPE=image/png:https://www.richmondheightslibrary.org/wp-content/uploads/2025/12/TT-Jan-26-long-slider.png
END:VEVENT
BEGIN:VEVENT
DTSTART;TZID=America/Chicago:20251215T000000
DTEND;TZID=America/Chicago:20251222T235959
DTSTAMP:20260420T063856
CREATED:20251121T175301Z
LAST-MODIFIED:20251121T175301Z
UID:2899-1765756800-1766447999@www.richmondheightslibrary.org
SUMMARY:Teen Activity Kit: Make a New Year Popper!
DESCRIPTION:Teen Activity Kits are take-home kits for teens\, ages 12-18\, with a different craft or activity each month! \n\n\n\n \n\n\n\nIn December we’ll craft a fun & colorful Pom-Pom Popper to ring in the New Year!   \n\n\n\nKits always have Reading Recommendations from your intrepid Youth Librarian\, a snack\, and usually a little something extra.   \n\n\n\n \n\n\n\nRegister by Wednesday\, December 10th to pick up kits beginning December 15th.
URL:https://www.richmondheightslibrary.org/event/teen-activity-kit-make-a-new-year-popper/
LOCATION:Richmond Heights Memorial Library – Children’s Library\, 8001 Dale Avenue\, Richmond Heights\, MO\, 63117\, United States
CATEGORIES:Arts & Crafts,Teen Programming
ATTACH;FMTTYPE=image/png:https://www.richmondheightslibrary.org/wp-content/uploads/2025/11/TAK-Dec-25-long-slider.png
END:VEVENT
BEGIN:VEVENT
DTSTART;TZID=America/Chicago:20251209T183000
DTEND;TZID=America/Chicago:20251209T193000
DTSTAMP:20260420T063856
CREATED:20251121T180024Z
LAST-MODIFIED:20251202T191245Z
UID:2904-1765305000-1765308600@www.richmondheightslibrary.org
SUMMARY:Teen Tuesday:  Get Creative!
DESCRIPTION:Make a Mini Gingerbread House out of graham crackers\, icing\, and candies! \n\n\n\n \n\n\n\nFor teens ages 12 – 18. \n\n\n\n \n\n\n\nPlease note that gluten\, dairy\, soy\, and other allergens may be present. Be mindful if you have food allergies or sensitivities. RHML is not responsible for any health issues that may arise from participation in programs.
URL:https://www.richmondheightslibrary.org/event/teen-tuesday-get-creative-3/
LOCATION:Richmond Heights Memorial Library – Program Room\, 8001 Dale Avenue\, Richmond Heights\, MO\, 63117\, United States
CATEGORIES:Teen Programming
ATTACH;FMTTYPE=image/png:https://www.richmondheightslibrary.org/wp-content/uploads/2025/11/Teen-Tues-Dec-25-long-slider.png
END:VEVENT
BEGIN:VEVENT
DTSTART;TZID=America/Chicago:20251118T183000
DTEND;TZID=America/Chicago:20251118T193000
DTSTAMP:20260420T063856
CREATED:20251020T174449Z
LAST-MODIFIED:20251022T192612Z
UID:2719-1763490600-1763494200@www.richmondheightslibrary.org
SUMMARY:Teen Tuesday: Get Creative!
DESCRIPTION:We’ll have templates and patterns to create your favorite characters\, animals\, kawaii cuteness\, and lots more with fuse beads!! \n\n\n\nFor Teens ages 12 – 18
URL:https://www.richmondheightslibrary.org/event/teen-tuesday-get-creative-2/
LOCATION:Richmond Heights Memorial Library – Program Room\, 8001 Dale Avenue\, Richmond Heights\, MO\, 63117\, United States
CATEGORIES:Arts & Crafts,Teen Programming
ATTACH;FMTTYPE=image/png:https://www.richmondheightslibrary.org/wp-content/uploads/2025/10/Teen-Tues-Nov-25-long-slider.png
END:VEVENT
BEGIN:VEVENT
DTSTART;TZID=America/Chicago:20251117T000000
DTEND;TZID=America/Chicago:20251124T235959
DTSTAMP:20260420T063856
CREATED:20251015T165944Z
LAST-MODIFIED:20251101T200508Z
UID:2694-1763337600-1764028799@www.richmondheightslibrary.org
SUMMARY:Teen Activity Kit: Kindness Rocks!
DESCRIPTION:Teen Activity Kits are take-home kits that feature a different craft or activity each month!   \n\n\n\nIn November\, we’ll explore Random Acts of Kindness and paint inspirational rocks with messages of kindness to leave for a stranger. \n\n\n\n \n\n\n\nRegister by Wednesday\, November 12 to pick up your kit November 17-24. \n\n\n\nFor ages 12-18.
URL:https://www.richmondheightslibrary.org/event/teen-activity-kit/
LOCATION:Richmond Heights Memorial Library – Children’s Library\, 8001 Dale Avenue\, Richmond Heights\, MO\, 63117\, United States
CATEGORIES:Teen Programming
ATTACH;FMTTYPE=image/png:https://www.richmondheightslibrary.org/wp-content/uploads/2025/10/TAK-Nov-25-long-slider-1.png
END:VEVENT
BEGIN:VEVENT
DTSTART;TZID=America/Chicago:20251021T183000
DTEND;TZID=America/Chicago:20251021T193000
DTSTAMP:20260420T063856
CREATED:20250916T202810Z
LAST-MODIFIED:20250918T201121Z
UID:2580-1761071400-1761075000@www.richmondheightslibrary.org
SUMMARY:Teen Tuesdays: Get Creative!
DESCRIPTION:Craft a needle-felted Spider just in time for Halloween!  \n\n\n\nFor teens ages 12 – 18
URL:https://www.richmondheightslibrary.org/event/teen-tuesday-get-creative/
LOCATION:MO
CATEGORIES:Arts & Crafts,Teen Programming
ATTACH;FMTTYPE=image/png:https://www.richmondheightslibrary.org/wp-content/uploads/2025/09/Teen-Tues-Oct-25-long-slider.png
END:VEVENT
BEGIN:VEVENT
DTSTART;TZID=America/Chicago:20251020T000000
DTEND;TZID=America/Chicago:20251027T235959
DTSTAMP:20260420T063856
CREATED:20250916T202127Z
LAST-MODIFIED:20250916T202127Z
UID:2575-1760918400-1761609599@www.richmondheightslibrary.org
SUMMARY:Teen Activity Kits
DESCRIPTION:Teen Activity Kits are take-home kits with a different craft or activity each month!  In October\, you’ll get a deck of playing cards and learn how to play different varieties of Solitaire\, as well as games to play with friends.  Kits always include a snack and a list of recommended new books at the library.  \n\n\n\nRegister by October 15th to pick up kits the week of the 20th.  \n\n\n\nTeen Activity kits are for ages 12 – 18.
URL:https://www.richmondheightslibrary.org/event/teen-activity-kits/
LOCATION:MO
CATEGORIES:Teen Programming
ATTACH;FMTTYPE=image/png:https://www.richmondheightslibrary.org/wp-content/uploads/2025/09/TAK-Oct-25-long-slider.png
END:VEVENT
BEGIN:VEVENT
DTSTART;TZID=America/Chicago:20251009T180000
DTEND;TZID=America/Chicago:20251009T180000
DTSTAMP:20260420T063856
CREATED:20250924T195839Z
LAST-MODIFIED:20250924T201909Z
UID:2625-1760032800-1760032800@www.richmondheightslibrary.org
SUMMARY:Virtual Authors Live! presents Leigh Bardugo
DESCRIPTION:Since publishing in 2015\, Leigh Bardugo’s highly popular Six of Crows has taken the world of YA literature by storm – and it’s not hard to see why. The complex fantasy setting\, thoughtfully-structured magic system\, and deliciously morally gray characters all collide in a world you won’t want to leave and you don’t have to! Join Virtual Authors Live as they pick the brain of the New York Times bestselling author herself\, celebrating the release of her Six of Crows (The Dregs Edition).
URL:https://www.richmondheightslibrary.org/event/virtual-authors-live-presents-leigh-bardugo/
LOCATION:Virtual Authors Live website
CATEGORIES:Adult Programming,Author Events,Book Discussion,Teen Programming,Virtual
ATTACH;FMTTYPE=image/png:https://www.richmondheightslibrary.org/wp-content/uploads/2025/09/10.9-leigh-burdugo-events.png
END:VEVENT
BEGIN:VEVENT
DTSTART;TZID=America/Chicago:20251002T130000
DTEND;TZID=America/Chicago:20251002T130000
DTSTAMP:20260420T063856
CREATED:20250924T195316Z
LAST-MODIFIED:20250924T201809Z
UID:2621-1759410000-1759410000@www.richmondheightslibrary.org
SUMMARY:Virtual Authors Live! presents Nuestra America
DESCRIPTION:Join the conversation with Smithsonian professionals Adrián Aldaba and Emily Key as they discuss Nuestra América and highlight inspiring stories of Latinos throughout history\, as well as their incredible contributions to the cultural\, social\, and political character of the United States.
URL:https://www.richmondheightslibrary.org/event/virtual-authors-live-presents-nuestra-america/
LOCATION:Virtual Authors Live website
CATEGORIES:Adult Programming,Author Events,Book Discussion,Children's Programming,Teen Programming,Virtual
ATTACH;FMTTYPE=image/png:https://www.richmondheightslibrary.org/wp-content/uploads/2025/09/10.2-nuestra-america-events.png
END:VEVENT
BEGIN:VEVENT
DTSTART;TZID=America/Chicago:20250930T183000
DTEND;TZID=America/Chicago:20250930T183000
DTSTAMP:20260420T063856
CREATED:20250818T183542Z
LAST-MODIFIED:20250818T220004Z
UID:2349-1759257000-1759257000@www.richmondheightslibrary.org
SUMMARY:Open Art Studio for Families
DESCRIPTION:Open Art Studio for Families \n\n\n\nWe’ll have lots of family-friendly art supplies to create your own project!   \n\n\n\nCanvas Paper Paints Clay Markers Pipe Cleaners Yarn + more! \n\n\n\nWhat will you create? \n\n\n\nNo registration required! Just drop in! \n\n\n\nTuesday\, September 30 @ 6:30pm
URL:https://www.richmondheightslibrary.org/event/2349/
LOCATION:Richmond Heights Memorial Library – Program Room\, 8001 Dale Avenue\, Richmond Heights\, MO\, 63117\, United States
CATEGORIES:Adult Programming,Arts & Crafts,Children's Programming,Teen Programming
ATTACH;FMTTYPE=image/png:https://www.richmondheightslibrary.org/wp-content/uploads/2025/08/Art-Studio-Sept.png
END:VEVENT
BEGIN:VEVENT
DTSTART;TZID=America/Chicago:20250915T000000
DTEND;TZID=America/Chicago:20250922T235959
DTSTAMP:20260420T063856
CREATED:20250816T181314Z
LAST-MODIFIED:20250903T164901Z
UID:2310-1757894400-1758585599@www.richmondheightslibrary.org
SUMMARY:September Teen Activity Kit: Zombie Pincushions
DESCRIPTION:Teen Activity Kits are take-home kits with a different craft or activity each month!  In September\, you’ll get supplies & instructions to make an adorably scary Zombie Pincushion.  Kits always include a snack and a list of recommended new books at the library.  \n\n\n\nRegister by September 10th to pick up kits the week of the 15th.  \n\n\n\nTeen Activity kits are for ages 12 – 18.
URL:https://www.richmondheightslibrary.org/event/september-teen-activity-kit-zombie-pincushions/
LOCATION:Richmond Heights Memorial Library\, 8001 Dale Avenue\, Richmond Heights\, MO\, 63117\, United States
CATEGORIES:Arts & Crafts,Teen Programming
ATTACH;FMTTYPE=image/png:https://www.richmondheightslibrary.org/wp-content/uploads/2025/08/TAK-Sept-25-slider-1.png
END:VEVENT
BEGIN:VEVENT
DTSTART;TZID=America/Chicago:20250909T183000
DTEND;TZID=America/Chicago:20250909T183000
DTSTAMP:20260420T063856
CREATED:20250818T183008Z
LAST-MODIFIED:20250904T155455Z
UID:2343-1757442600-1757442600@www.richmondheightslibrary.org
SUMMARY:Teen Tuesdays: Get Cooking!
DESCRIPTION:Teens!!  Come on out to the library and make your own Pita Pizza!  You’ll practice chopping & dicing\, select & prepare a variety of toppings\, then craft & bake your own perfect pizza!   \n\n\n\nTuesday\, September 9 @ 6:30pm \n\n\n\nTeen Tuesday is for ages 12 – 18. \n\n\n\nPlease note that gluten\, dairy\, soy\, and other allergens may be present. Be mindful if you have food allergies or sensitivities. RHML is not responsible for any health issues that may arise from participation in programs.
URL:https://www.richmondheightslibrary.org/event/teen-tuesdays-get-cooking/
LOCATION:Richmond Heights Memorial Library – Program Room\, 8001 Dale Avenue\, Richmond Heights\, MO\, 63117\, United States
CATEGORIES:Teen Programming
ATTACH;FMTTYPE=image/png:https://www.richmondheightslibrary.org/wp-content/uploads/2025/08/Teen-Tues-Sept-25-slider.png
END:VEVENT
END:VCALENDAR